Felt | Verdi |
AlreadyApplied | True |
Aperture | 6.3 |
ApertureValue | 6.3 |
ApproximateFocusDistance | 10.6 |
Artist | RONNY KJELLAND NARVIK-NORWAY |
AutoLateralCA | 0 |
BitsPerSample | 8 |
Blacks2012 | 0 |
BlueHue | 0 |
BlueSaturation | 0 |
Brightness | 0.000000 |
By-line | RONNY KJELLAND NARVIK-NORWAY |
CameraModelID | |
CameraProfile | Adobe Standard |
CFAPattern | [Red,Green][Green,Blue] |
CircleOfConfusion | 0.030 mm |
Clarity2012 | +21 |
ColorComponents | 3 |
ColorNoiseReduction | 25 |
ColorNoiseReductionDetail | 50 |
ColorTemperature | 6300 |
Contrast (1) | 0.000000 |
Contrast | Normal |
Contrast2012 | +12 |
ConvertToGrayscale | False |
Copyright | RONNY KJELLAND |
CopyrightNotice | RONNY KJELLAND |
CreateDate (1) | 2013:07:30 22:41:47.42 |
CreateDate | 2013:07:30 22:41:47 |
Creator | RONNY KJELLAND NARVIK-NORWAY |
CreatorTool | Microsoft Windows Live Photo Gallery 15.4.3555.308 |
CropAngle | -1.27511 |
CropBottom | 0.909573 |
CropConstrainToWarp | 0 |
CropHeight | 2222 |
CropLeft | 0 |
CropRight | 1 |
CropTop | 0.11795 |
CropUnit | pixels |
CropWidth | 4000 |
CustomRendered | Normal |
DateCreated (1) | 2013:07:30 |
DateCreated | 2013:07:30 22:41:47.42 |
DateTimeOriginal | 2013:07:30 22:41:47 |
DefringeGreenAmount | 0 |
DefringeGreenHueHi | 60 |
DefringeGreenHueLo | 40 |
DefringePurpleAmount | 0 |
DefringePurpleHueHi | 70 |
DefringePurpleHueLo | 30 |
DigitalZoomRatio | 1 |
DOF | inf (2.37 m - inf) |
Exposure2012 | +0.12 |
ExposureCompensation (1) | 0.000000 |
ExposureCompensation | -3 |
ExposureMode | Manual |
ExposureProgram | Manual |
ExposureTime | 1/40 |
Flash | No Flash |
FNumber | 6.3 |
FocalLength | 24.0 mm |
FocalLength35efl | 24.0 mm (35 mm equivalent: 24.0 mm) |
FocalLengthIn35mmFormat | 24 mm |
Format | image/jpeg |
FOV | 73.7 deg |
GainControl | None |
GrainAmount | 0 |
GreenHue | 0 |
GreenSaturation | 0 |
HasCrop | True |
HasSettings | True |
Highlights2012 | -29 |
HueAdjustmentAqua | 0 |
HueAdjustmentBlue | 0 |
HueAdjustmentGreen | 0 |
HueAdjustmentMagenta | 0 |
HueAdjustmentOrange | 0 |
HueAdjustmentPurple | 0 |
HueAdjustmentRed | 0 |
HueAdjustmentYellow | 0 |
HyperfocalDistance | 3.04 m |
ImageHeight | 2222 |
ImageNumber | 10778 |
ImageSize | 4000x2222 |
ImageWidth | 4000 |
ISO | 250 |
Lens | 24.0-70.0 mm f/2.8 |
LensID (1) | 166 |
LensID | Sigma 24-70mm F2.8 IF EX DG HSM |
LensInfo | 24-70mm f/2.8 |
LensManualDistortionAmount | 0 |
LensModel | 24.0-70.0 mm f/2.8 |
LensProfileEnable | 0 |
LensProfileSetup | LensDefaults |
LightSource | Unknown |
LightValue | 9.3 |
LuminanceAdjustmentAqua | 0 |
LuminanceAdjustmentBlue | 0 |
LuminanceAdjustmentGreen | 0 |
LuminanceAdjustmentMagenta | 0 |
LuminanceAdjustmentOrange | 0 |
LuminanceAdjustmentPurple | 0 |
LuminanceAdjustmentRed | 0 |
LuminanceAdjustmentYellow | 0 |
LuminanceNoiseReductionContrast | 0 |
LuminanceNoiseReductionDetail | 57 |
LuminanceSmoothing | 83 |
Make | NIKON CORPORATION |
MaxApertureValue | 2.8 |
Megapixels | 8.9 |
MeteringMode | Multi-segment |
Model | NIKON D700 |
ModifyDate (1) | 2013:07:31 00:17:00+02:00 |
ModifyDate | 2013:07:31 00:23:42 |
Orientation | Horizontal (normal) |
ParametricDarks | +11 |
ParametricHighlights | -18 |
ParametricHighlightSplit | 75 |
ParametricLights | +30 |
ParametricMidtoneSplit | 50 |
ParametricShadows | +65 |
ParametricShadowSplit | 25 |
PerspectiveHorizontal | 0 |
PerspectiveRotate | 0.0 |
PerspectiveScale | 100 |
PerspectiveVertical | 0 |
PipelineVersion | 01.00 |
PostCropVignetteAmount | 0 |
ProcessVersion | 6.7 |
ProfileDescription | sRGB IEC61966-2.1 |
RedHue | 0 |
RedSaturation | 0 |
Rights | RONNY KJELLAND |
Saturation (1) | +24 |
Saturation | Normal |
SaturationAdjustmentAqua | 0 |
SaturationAdjustmentBlue | 0 |
SaturationAdjustmentGreen | 0 |
SaturationAdjustmentMagenta | 0 |
SaturationAdjustmentOrange | 0 |
SaturationAdjustmentPurple | 0 |
SaturationAdjustmentRed | 0 |
SaturationAdjustmentYellow | 0 |
ScaleFactor35efl | 1.0 |
SceneCaptureType | Standard |
SceneType | Directly photographed |
SensingMethod | One-chip color area |
SerialNumber | 2319185 |
Shadows2012 | 0 |
ShadowTint | 0 |
SharpenDetail | 25 |
SharpenEdgeMasking | 0 |
SharpenRadius | +1.8 |
Sharpness (1) | 129 |
Sharpness | Normal |
ShutterSpeed | 1/40 |
ShutterSpeedValue | 1/40 |
Software | Adobe Photoshop Lightroom 4.4 (Windows) |
SplitToningBalance | 0 |
SplitToningHighlightHue | 0 |
SplitToningHighlightSaturation | 0 |
SplitToningShadowHue | 0 |
SplitToningShadowSaturation | 0 |
StreamType | 3 |
SubjectDistanceRange | Unknown |
Tint | -33 |
ToneCurveName2012 | Linear |
ToneCurvePV2012 | 0, 0, 255, 255 |
ToneCurvePV2012Blue | 0, 0, 255, 255 |
ToneCurvePV2012Green | 0, 0, 255, 255 |
ToneCurvePV2012Red | 0, 0, 255, 255 |
Version | 7.4 |
Vibrance | +12 |
VignetteAmount | 0 |
WhiteBalance (1) | As Shot |
WhiteBalance | Auto |
WhiteBalance0 | 2.524472 |
WhiteBalance1 | 1.000000 |
WhiteBalance2 | 1.042051 |
Whites2012 | 0 |