Felt | Verdi |
AlreadyApplied | True |
Aperture | 8.0 |
ApertureValue | 8.0 |
ApproximateFocusDistance | 7.08 |
AutoLateralCA | 0 |
BitsPerSample | 8 |
Blacks2012 | -40 |
BlueHue | 0 |
BlueSaturation | 0 |
CameraProfile | Adobe Standard |
CFAPattern | [Red,Green][Green,Blue] |
CircleOfConfusion | 0.030 mm |
Clarity2012 | +30 |
ColorComponents | 1 |
ColorNoiseReduction | 25 |
ColorNoiseReductionDetail | 50 |
ColorTemperature | 5300 |
Contrast | Normal |
Contrast2012 | +38 |
ConvertToGrayscale | True |
CreateDate (1) | 2013:06:01 12:25:05.67 |
CreateDate | 2013:06:01 12:25:05 |
CreatorTool | Adobe Photoshop Lightroom 4.4 (Windows) |
CropAngle | 1.40778 |
CropBottom | 1 |
CropConstrainToWarp | 0 |
CropHeight | 665 |
CropLeft | 0.025693 |
CropRight | 0.974307 |
CropTop | 0 |
CropUnit | pixels |
CropWidth | 1000 |
CustomRendered | Normal |
DateCreated (1) | 2013:06:01 |
DateCreated | 2013:06:01 12:25:05.67 |
DateTimeOriginal | 2013:06:01 12:25:05 |
DigitalZoomRatio | 1 |
DOF | 1.13 m (6.56 - 7.69 m) |
Exposure2012 | +0.36 |
ExposureCompensation | 0 |
ExposureMode | Auto |
ExposureProgram | Aperture-priority AE |
ExposureTime | 1/200 |
Flash | No Flash |
FNumber | 8.0 |
FocalLength | 145.0 mm |
FocalLength35efl | 145.0 mm (35 mm equivalent: 145.0 mm) |
FocalLengthIn35mmFormat | 145 mm |
Format | image/jpeg |
FOV | 14.2 deg |
GainControl | None |
GrainAmount | 0 |
GrayMixerAqua | -18 |
GrayMixerBlue | +13 |
GrayMixerGreen | -28 |
GrayMixerMagenta | +5 |
GrayMixerOrange | -20 |
GrayMixerPurple | +18 |
GrayMixerRed | -11 |
GrayMixerYellow | -25 |
GreenHue | 0 |
GreenSaturation | 0 |
HasCrop | True |
HasSettings | True |
Highlights2012 | -50 |
HyperfocalDistance | 87.47 m |
ImageHeight | 1000 |
ImageNumber | 15174 |
ImageSize | 665x1000 |
ImageWidth | 665 |
ISO | 200 |
Lens | 80.0-200.0 mm f/2.8 |
LensID (1) | 83 |
LensID | AF Zoom-Nikkor 80-200mm f/2.8D ED |
LensInfo | 80-200mm f/2.8 |
LensManualDistortionAmount | 0 |
LensModel | 80.0-200.0 mm f/2.8 |
LensProfileEnable | 0 |
LensProfileSetup | LensDefaults |
LightSource | Unknown |
LightValue | 12.6 |
LuminanceSmoothing | 0 |
Make | NIKON CORPORATION |
MaxApertureValue | 2.8 |
Megapixels | 0.665 |
MeteringMode | Spot |
Model | NIKON D700 |
ModifyDate (1) | 2013:06:04 21:32:26+02:00 |
ModifyDate | 2013:06:04 21:32:26 |
ParametricDarks | 0 |
ParametricHighlights | 0 |
ParametricHighlightSplit | 75 |
ParametricLights | 0 |
ParametricMidtoneSplit | 50 |
ParametricShadows | 0 |
ParametricShadowSplit | 25 |
PerspectiveHorizontal | 0 |
PerspectiveRotate | 0.0 |
PerspectiveScale | 100 |
PerspectiveVertical | 0 |
PostCropVignetteAmount | -15 |
PostCropVignetteFeather | 50 |
PostCropVignetteHighlightContrast | 0 |
PostCropVignetteMidpoint | 50 |
PostCropVignetteRoundness | 0 |
PostCropVignetteStyle | 1 |
ProcessVersion | 6.7 |
ProfileDescription | sRGB IEC61966-2.1 |
RedHue | 0 |
RedSaturation | 0 |
Saturation | Normal |
ScaleFactor35efl | 1.0 |
SceneCaptureType | Standard |
SceneType | Directly photographed |
SensingMethod | One-chip color area |
SerialNumber | 2033807 |
Shadows2012 | -57 |
ShadowTint | 0 |
SharpenDetail | 25 |
SharpenEdgeMasking | 0 |
SharpenRadius | +1.0 |
Sharpness (1) | 25 |
Sharpness | Normal |
ShutterSpeed | 1/200 |
ShutterSpeedValue | 1/200 |
Software | Adobe Photoshop Lightroom 4.4 (Windows) |
SplitToningBalance | 0 |
SplitToningHighlightHue | 0 |
SplitToningHighlightSaturation | 0 |
SplitToningShadowHue | 0 |
SplitToningShadowSaturation | 0 |
SubjectDistanceRange | Unknown |
Tint | +6 |
ToneCurveName2012 | Strong Contrast |
ToneCurvePV2012 | 0, 0, 32, 16, 64, 50, 128, 128, 192, 202, 255, 255 |
ToneCurvePV2012Blue | 0, 0, 255, 255 |
ToneCurvePV2012Green | 0, 0, 255, 255 |
ToneCurvePV2012Red | 0, 0, 255, 255 |
Version | 7.4 |
VignetteAmount | 0 |
WhiteBalance (1) | As Shot |
WhiteBalance | Auto |
Whites2012 | 0 |