Felt | Verdi |
AlreadyApplied | True |
Aperture | 8.0 |
ApertureValue | 8.0 |
ApproximateFocusDistance | 0.5 |
Artist | John A Roksvåg |
BitsPerSample | 8 |
BlueHue | 0 |
BlueSaturation | 0 |
Brightness | +50 |
By-line | John A Roksvåg |
CameraProfile | Adobe Standard |
CFAPattern | [Red,Green][Green,Blue] |
ChromaticAberrationB | 0 |
ChromaticAberrationR | 0 |
CircleOfConfusion | 0.030 mm |
Clarity | +31 |
ColorComponents | 3 |
ColorMode | RGB |
ColorNoiseReduction | 25 |
ColorNoiseReductionDetail | 50 |
ColorSpace | sRGB |
ColorTemperature | 5500 |
Contrast (1) | +46 |
Contrast | Normal |
ConvertToGrayscale | False |
Copyright | John A Roksvåg |
CopyrightNotice | John A Roksvåg |
CreateDate (1) | 2012:01:30 20:15:53.07+01:00 |
CreateDate | 2012:01:30 20:15:53 |
Creator | John A Roksvåg |
CreatorTool | Ver.1.02 |
CropAngle | 0 |
CropBottom | 0.913621 |
CropConstrainToWarp | 1 |
CropLeft | 0.133382 |
CropRight | 0.935151 |
CropTop | 0.153931 |
CustomRendered | Normal |
DateCreated (1) | 2012:01:30 |
DateCreated | 2012:01:30 20:15:53.007+01:00 |
DateTimeOriginal | 2012:01:30 20:15:53 |
Defringe | 0 |
DigitalZoomRatio | 1 |
DOF | 0.03 m (0.49 - 0.51 m) |
ExifImageHeight | 2151 |
ExifImageWidth | 3412 |
Exposure | 0.00 |
ExposureCompensation | 0 |
ExposureMode | Manual |
ExposureProgram | Manual |
ExposureTime | 1/250 |
FillLight | 0 |
Flash | On, Return not detected |
FNumber | 8.0 |
FocalLength | 62.0 mm |
FocalLength35efl | 62.0 mm (35 mm equivalent: 62.0 mm) |
FocalLengthIn35mmFormat | 62 mm |
Format | image/jpeg |
FOV | 32.4 deg |
GainControl | None |
GrainAmount | 0 |
GreenHue | 0 |
GreenSaturation | 0 |
HasCrop | True |
HasSettings | True |
HighlightRecovery | 0 |
HueAdjustmentAqua | 0 |
HueAdjustmentBlue | 0 |
HueAdjustmentGreen | 0 |
HueAdjustmentMagenta | 0 |
HueAdjustmentOrange | 0 |
HueAdjustmentPurple | 0 |
HueAdjustmentRed | 0 |
HueAdjustmentYellow | 0 |
HyperfocalDistance | 15.99 m |
ICCProfileName | sRGB IEC61966-2.1 |
ImageHeight | 2151 |
ImageNumber | 46238 |
ImageSize | 3412x2151 |
ImageWidth | 3412 |
ISO | 200 |
Lens | 24.0-70.0 mm f/2.8 |
LensID (1) | 147 |
LensID | AF-S Zoom-Nikkor 24-70mm f/2.8G ED |
LensInfo | 24-70mm f/2.8 |
LensManualDistortionAmount | 0 |
LensModel | 24.0-70.0 mm f/2.8 |
LensProfileEnable | 0 |
LensProfileSetup | LensDefaults |
LightSource | Unknown |
LightValue | 13.0 |
LuminanceAdjustmentAqua | 0 |
LuminanceAdjustmentBlue | 0 |
LuminanceAdjustmentGreen | 0 |
LuminanceAdjustmentMagenta | 0 |
LuminanceAdjustmentOrange | 0 |
LuminanceAdjustmentPurple | 0 |
LuminanceAdjustmentRed | 0 |
LuminanceAdjustmentYellow | 0 |
LuminanceNoiseReductionContrast | 45 |
LuminanceNoiseReductionDetail | 50 |
LuminanceSmoothing | 50 |
Make | NIKON CORPORATION |
MaxApertureValue | 2.8 |
Megapixels | 7.3 |
MeteringMode | Multi-segment |
Model | NIKON D700 |
ModifyDate (1) | 2012:01:30 23:51:33+01:00 |
ModifyDate | 2012:01:30 23:51:33 |
Orientation | Horizontal (normal) |
ParametricDarks | 0 |
ParametricHighlights | -32 |
ParametricHighlightSplit | 75 |
ParametricLights | +35 |
ParametricMidtoneSplit | 50 |
ParametricShadows | 0 |
ParametricShadowSplit | 25 |
PerspectiveHorizontal | 0 |
PerspectiveRotate | 0.0 |
PerspectiveScale | 100 |
PerspectiveVertical | 0 |
PostCropVignetteAmount | 0 |
ProcessVersion | 5.7 |
ProfileDescription | sRGB IEC61966-2.1 |
Rating | 0 |
RawFileName | _DSC6177.NEF |
RedHue | 0 |
RedSaturation | 0 |
Rights | John A Roksvåg |
Saturation (1) | 0 |
Saturation | Normal |
SaturationAdjustmentAqua | 0 |
SaturationAdjustmentBlue | 0 |
SaturationAdjustmentGreen | 0 |
SaturationAdjustmentMagenta | 0 |
SaturationAdjustmentOrange | 0 |
SaturationAdjustmentPurple | 0 |
SaturationAdjustmentRed | 0 |
SaturationAdjustmentYellow | 0 |
ScaleFactor35efl | 1.0 |
SceneCaptureType | Standard |
SceneType | Directly photographed |
SensingMethod | One-chip color area |
SerialNumber | 2204954 |
Shadows | 10 |
ShadowTint | 0 |
SharpenDetail | 25 |
SharpenEdgeMasking | 0 |
SharpenRadius | +1.0 |
Sharpness (1) | 60 |
Sharpness | Normal |
ShutterSpeed | 1/250 |
ShutterSpeedValue | 1/250 |
Software | Adobe Photoshop CS5 Windows |
SplitToningBalance | 0 |
SplitToningHighlightHue | 0 |
SplitToningHighlightSaturation | 0 |
SplitToningShadowHue | 0 |
SplitToningShadowSaturation | 0 |
SubjectDistance | 0.5 m |
SubjectDistanceRange | Unknown |
Tint | +24 |
ToneCurve | 0, 0, 32, 22, 64, 56, 128, 128, 192, 196, 255, 255 |
ToneCurveName | Medium Contrast |
URL_List | |
Version | 6.6 |
Vibrance | +22 |
VignetteAmount | 0 |
WhiteBalance (1) | Custom |
WhiteBalance | Auto |