Felt | Verdi |
AlreadyApplied | True |
Aperture | 5.6 |
ApertureValue | 5.6 |
ApproximateFocusDistance | 11.9 |
AutoLateralCA | 0 |
BitsPerSample | 8 |
Blacks2012 | 0 |
BlueHue | 0 |
BlueSaturation | 0 |
Brightness | +15 |
CameraProfile | Adobe Standard |
CircleOfConfusion | 0.023 mm |
Clarity | +6 |
Clarity2012 | 0 |
ColorComponents | 3 |
ColorMode | RGB |
ColorNoiseReduction | 25 |
ColorNoiseReductionDetail | 50 |
ColorSpace | Uncalibrated |
ColorTemperature | 5800 |
Contrast | +59 |
Contrast2012 | +45 |
ConvertToGrayscale | False |
CreateDate (1) | 2012:10:01 18:51:07.80 |
CreateDate | 2012:10:01 18:51:07 |
CropAngle | 2.368118 |
CropBottom | 0.978971 |
CropConstrainToWarp | 1 |
CropHeight | 1 |
CropLeft | 0.234654 |
CropRight | 0.828674 |
CropTop | 0.011066 |
CropUnit | Unknown (3) |
CropWidth | 1 |
CustomRendered | Normal |
DateCreated (1) | 2012:10:01 |
DateCreated | 2012:10:01 18:51:07.008 |
DateTimeOriginal | 2012:10:01 18:51:07 |
Defringe | 0 |
DOF | inf (3.22 m - inf) |
ExifImageHeight | 3810 |
ExifImageWidth | 3810 |
Exposure | 0.00 |
Exposure2012 | -0.42 |
ExposureCompensation | 0 |
ExposureMode | Manual |
ExposureProgram | Manual |
ExposureTime | 1/60 |
FillLight | 14 |
Firmware | 1.1.2 |
Flash | Off, Did not fire |
FlashCompensation | 0 |
FNumber | 5.6 |
FocalLength | 24.0 mm |
FocalLength35efl | 24.0 mm (35 mm equivalent: 30.8 mm) |
Format | image/jpeg |
FOV | 60.5 deg |
GrainAmount | 0 |
GreenHue | 0 |
GreenSaturation | 0 |
HasCrop | True |
HasSettings | True |
HighlightRecovery | 0 |
Highlights2012 | -7 |
HueAdjustmentAqua | 0 |
HueAdjustmentBlue | -1 |
HueAdjustmentGreen | 0 |
HueAdjustmentMagenta | 0 |
HueAdjustmentOrange | 0 |
HueAdjustmentPurple | 0 |
HueAdjustmentRed | 0 |
HueAdjustmentYellow | 0 |
HyperfocalDistance | 4.40 m |
ICCProfileName | Adobe RGB (1998) |
ImageHeight | 3810 |
ImageNumber | 0 |
ImageSize | 3810x3810 |
ImageWidth | 3810 |
ISO | 1000 |
Lens | EF24-105mm f/4L IS USM |
LensID (1) | 237 |
LensID | Canon EF 24-105mm f/4L IS USM |
LensInfo | 24-105mm f/? |
LensManualDistortionAmount | 0 |
LensModel | EF24-105mm f/4L IS USM |
LensProfileEnable | 0 |
LensProfileSetup | LensDefaults |
LensSerialNumber | 000050e634 |
LightValue | 7.6 |
LuminanceAdjustmentAqua | 0 |
LuminanceAdjustmentBlue | -47 |
LuminanceAdjustmentGreen | 0 |
LuminanceAdjustmentMagenta | 0 |
LuminanceAdjustmentOrange | 0 |
LuminanceAdjustmentPurple | 0 |
LuminanceAdjustmentRed | 0 |
LuminanceAdjustmentYellow | +3 |
LuminanceNoiseReductionContrast | 0 |
LuminanceNoiseReductionDetail | 50 |
LuminanceSmoothing | 66 |
Make | Canon |
MaxApertureValue | 4.0 |
Megapixels | 14.5 |
MeteringMode | Spot |
Model | Canon EOS 5D Mark III |
ModifyDate (1) | 2012:10:05 19:35:02+02:00 |
ModifyDate | 2012:10:05 19:35:02 |
Orientation | Horizontal (normal) |
PaintCorrectionActive | true |
PaintCorrectionAmount | 1.000000 |
PaintCorrectionBrightness | 0.000000 |
PaintCorrectionClarity | 0.000000 |
PaintCorrectionClarity2012 | 0.000000 |
PaintCorrectionContrast | 0.000000 |
PaintCorrectionContrast2012 | 0.000000 |
PaintCorrectionExposure (1) | 0.087500 |
PaintCorrectionExposure (2) | 0.062500 |
PaintCorrectionExposure (3) | 0.137500 |
PaintCorrectionExposure (4) | -0.037500 |
PaintCorrectionExposure | 0.050000 |
PaintCorrectionExposure2012 | 0.000000 |
PaintCorrectionHighlights2012 | 0.000000 |
PaintCorrectionHue | 0.000000 |
PaintCorrectionLuminanceNoise | 0.000000 |
PaintCorrectionMaskCenterWeight (1) | 0.087789 |
PaintCorrectionMaskCenterWeight (13) | 0.537984 |
PaintCorrectionMaskCenterWeight (18) | 0.419401 |
PaintCorrectionMaskCenterWeight (2) | 0.175849 |
PaintCorrectionMaskCenterWeight (22) | 0.240684 |
PaintCorrectionMaskCenterWeight (4) | 0.349837 |
PaintCorrectionMaskCenterWeight (7) | 0.686802 |
PaintCorrectionMaskCenterWeight (8) | 0.843964 |
PaintCorrectionMaskCenterWeight | 0.143200 |
PaintCorrectionMaskFlow (9) | 0.888889 |
PaintCorrectionMaskFlow | 0.876457 |
PaintCorrectionMaskRadius (1) | 0.132599 |
PaintCorrectionMaskRadius (10) | 0.019011 |
PaintCorrectionMaskRadius (12) | 0.033887 |
PaintCorrectionMaskRadius (14) | 0.019807 |
PaintCorrectionMaskRadius (16) | 0.049283 |
PaintCorrectionMaskRadius (2) | 0.079904 |
PaintCorrectionMaskRadius (21) | 0.012620 |
PaintCorrectionMaskRadius (3) | 0.038132 |
PaintCorrectionMaskRadius (5) | 0.010406 |
PaintCorrectionMaskRadius (7) | 0.005497 |
PaintCorrectionMaskRadius (9) | 0.008667 |
PaintCorrectionMaskRadius | 0.066905 |
PaintCorrectionMaskValue (8) | 0.000000 |
PaintCorrectionMaskValue | 1.000000 |
PaintCorrectionMaskWhat | Mask/Paint |
PaintCorrectionMoire | 0.000000 |
PaintCorrectionSaturation (3) | 0.070000 |
PaintCorrectionSaturation | 0.000000 |
PaintCorrectionShadows2012 | 0.000000 |
PaintCorrectionSharpness | 0.000000 |
PaintCorrectionTemperature | 0.000000 |
PaintCorrectionTint | 0.000000 |
PaintCorrectionWhat | Correction |
ParametricDarks | 0 |
ParametricHighlights | 0 |
ParametricHighlightSplit | 75 |
ParametricLights | 0 |
ParametricMidtoneSplit | 50 |
ParametricShadows | 0 |
ParametricShadowSplit | 25 |
PerspectiveHorizontal | 0 |
PerspectiveRotate | 0.0 |
PerspectiveScale | 100 |
PerspectiveVertical | 0 |
PostCropVignetteAmount | -33 |
PostCropVignetteFeather | 50 |
PostCropVignetteHighlightContrast | 87 |
PostCropVignetteMidpoint | 50 |
PostCropVignetteRoundness | 0 |
PostCropVignetteStyle | 1 |
ProcessVersion | 5.7 |
ProfileDescription | Adobe RGB (1998) |
Rating | 0 |
RawFileName | 0X8A5220.CR2 |
RecommendedExposureIndex | 1000 |
RedHue | 0 |
RedSaturation | 0 |
Saturation | 0 |
SaturationAdjustmentAqua | 0 |
SaturationAdjustmentBlue | +4 |
SaturationAdjustmentGreen | 0 |
SaturationAdjustmentMagenta | 0 |
SaturationAdjustmentOrange | 0 |
SaturationAdjustmentPurple | 0 |
SaturationAdjustmentRed | 0 |
SaturationAdjustmentYellow | 0 |
ScaleFactor35efl | 1.3 |
SceneCaptureType | Standard |
SensitivityType | Recommended Exposure Index |
SerialNumber | 053023000338 |
Shadows | 5 |
Shadows2012 | +7 |
ShadowTint | 0 |
SharpenDetail | 25 |
SharpenEdgeMasking | 0 |
SharpenRadius | +1.0 |
Sharpness | 71 |
ShutterSpeed | 1/60 |
ShutterSpeedValue | 1/60 |
Software | Adobe Photoshop CS5 Windows |
SplitToningBalance | 0 |
SplitToningHighlightHue | 0 |
SplitToningHighlightSaturation | 0 |
SplitToningShadowHue | 0 |
SplitToningShadowSaturation | 0 |
SubjectDistance | 11.9 m |
Tint | +6 |
ToneCurve | 0, 0, 32, 22, 64, 56, 128, 128, 192, 196, 255, 255 |
ToneCurveBlue | 0, 0, 255, 255 |
ToneCurveGreen | 0, 0, 255, 255 |
ToneCurveName | Medium Contrast |
ToneCurveName2012 | Linear |
ToneCurvePV2012 | 0, 0, 255, 255 |
ToneCurvePV2012Blue | 0, 0, 255, 255 |
ToneCurvePV2012Green | 0, 0, 255, 255 |
ToneCurvePV2012Red | 0, 0, 255, 255 |
ToneCurveRed | 0, 0, 255, 255 |
URL_List | |
Version | 6.7 |
Vibrance | -11 |
VignetteAmount | 0 |
WhiteBalance (1) | Custom |
WhiteBalance | Auto |
Whites2012 | 0 |