Felt | Verdi |
AlreadyApplied | True |
Aperture | 8.0 |
ApertureValue | 8.0 |
ApproximateFocusDistance | 1.48 |
Artist | Eric Fagerheim |
AutoLateralCA | 0 |
BitsPerSample | 8 |
Blacks2012 | 0 |
BlueHue | 0 |
BlueSaturation | 0 |
Brightness | +29 |
By-line | Eric Fagerheim |
CameraProfile | Embedded |
CircleOfConfusion | 0.031 mm |
Clarity | 0 |
Clarity2012 | 0 |
ColorComponents | 3 |
ColorNoiseReduction | 0 |
Contrast | +12 |
Contrast2012 | 0 |
ConvertToGrayscale | False |
Copyright | Eric Fagehreim |
CopyrightFlag | True |
CopyrightNotice | Eric Fagehreim |
CreateDate (1) | 2012:03:20 20:24:16.60 |
CreateDate | 2012:03:20 20:24:16 |
Creator | Eric Fagerheim |
CreatorAddress | Martin Stokkensveg 114 |
CreatorCity | 7027 Trondheim |
CreatorCountry | Norway |
CreatorTool | Adobe Photoshop Lightroom 4.0 (Windows) |
CreatorWorkEmail | mail@fotoafshion.no |
CustomRendered | Normal |
DateCreated (1) | 2012:03:20 |
DateCreated | 2012:03:20 20:24:16.006 |
DateTimeOriginal | 2012:03:20 20:24:16 |
Defringe | 0 |
DOF | 0.53 m (1.26 - 1.79 m) |
Exposure | -0.39 |
Exposure2012 | 0.00 |
ExposureCompensation | 0 |
ExposureMode | Manual |
ExposureProgram | Manual |
ExposureTime | 1/160 |
FillLight | 6 |
Firmware | 2.0.9 |
Flash | Off, Did not fire |
FlashCompensation | 0 |
FNumber | 8.0 |
FocalLength | 45.0 mm |
FocalLength35efl | 45.0 mm (35 mm equivalent: 43.9 mm) |
Format | image/jpeg |
FOV | 44.6 deg |
GradientBasedCorrActive | true |
GradientBasedCorrAmount | 1.000000 |
GradientBasedCorrBrightness | 0.000000 |
GradientBasedCorrClarity | 0.000000 |
GradientBasedCorrContrast | 0.000000 |
GradientBasedCorrExposure (2) | -0.097500 |
GradientBasedCorrExposure | -0.146250 |
GradientBasedCorrHue | 0.000000 |
GradientBasedCorrMaskFullX (1) | 0.904360 |
GradientBasedCorrMaskFullX (2) | 0.222448 |
GradientBasedCorrMaskFullX (3) | 0.068272 |
GradientBasedCorrMaskFullX | 0.822868 |
GradientBasedCorrMaskFullY (1) | 0.746965 |
GradientBasedCorrMaskFullY (2) | 0.081660 |
GradientBasedCorrMaskFullY (3) | 0.700859 |
GradientBasedCorrMaskFullY | 0.193050 |
GradientBasedCorrMaskValue | 1.000000 |
GradientBasedCorrMaskWhat | Mask/Gradient |
GradientBasedCorrMaskZeroX (1) | 0.577059 |
GradientBasedCorrMaskZeroX (2) | 0.430525 |
GradientBasedCorrMaskZeroX (3) | 0.391627 |
GradientBasedCorrMaskZeroX | 0.622225 |
GradientBasedCorrMaskZeroY (1) | 0.580510 |
GradientBasedCorrMaskZeroY (2) | 0.338348 |
GradientBasedCorrMaskZeroY (3) | 0.620817 |
GradientBasedCorrMaskZeroY | 0.412529 |
GradientBasedCorrSaturation | 0.000000 |
GradientBasedCorrSharpness | 0.000000 |
GradientBasedCorrWhat | Correction |
GrainAmount | 62 |
GrainFrequency | 50 |
GrainSize | 25 |
GreenHue | 0 |
GreenSaturation | 0 |
HasCrop | False |
HasSettings | True |
Headline | Fotofashion |
HighlightRecovery | 0 |
Highlights2012 | 0 |
HueAdjustmentAqua | 0 |
HueAdjustmentBlue | 0 |
HueAdjustmentGreen | 0 |
HueAdjustmentMagenta | 0 |
HueAdjustmentOrange | 0 |
HueAdjustmentPurple | 0 |
HueAdjustmentRed | 0 |
HueAdjustmentYellow | 0 |
HyperfocalDistance | 8.22 m |
ImageHeight | 537 |
ImageNumber | 0 |
ImageSize | 950x537 |
ImageWidth | 950 |
IncrementalTemperature | -15 |
IncrementalTint | 0 |
ISO | 100 |
Keywords | fotofashion, fotograf, pool, swimer, trondheim |
Label | Fotofashion |
Lens | EF24-105mm f/4L IS USM |
LensID (1) | 237 |
LensID | Canon EF 24-105mm f/4L IS USM |
LensInfo | 24-105mm f/? |
LensManualDistortionAmount | 0 |
LensModel | EF24-105mm f/4L IS USM |
LensProfileEnable | 0 |
LensProfileSetup | LensDefaults |
LightValue | 13.3 |
LuminanceAdjustmentAqua | 0 |
LuminanceAdjustmentBlue | 0 |
LuminanceAdjustmentGreen | 0 |
LuminanceAdjustmentMagenta | 0 |
LuminanceAdjustmentOrange | 0 |
LuminanceAdjustmentPurple | 0 |
LuminanceAdjustmentRed | -16 |
LuminanceAdjustmentYellow | 0 |
LuminanceSmoothing | 0 |
Make | Canon |
Marked | True |
MaxApertureValue | 4.0 |
Megapixels | 0.510 |
MeteringMode | Center-weighted average |
Model | Canon EOS 5D Mark II |
ModifyDate (1) | 2012:04:30 19:37:19+02:00 |
ModifyDate | 2012:04:30 19:37:19 |
ObjectName | copyright www.fotofashion.no |
ParametricDarks | -16 |
ParametricHighlights | 0 |
ParametricHighlightSplit | 75 |
ParametricLights | 0 |
ParametricMidtoneSplit | 50 |
ParametricShadows | -9 |
ParametricShadowSplit | 25 |
PerspectiveHorizontal | 0 |
PerspectiveRotate | 0.0 |
PerspectiveScale | 100 |
PerspectiveVertical | 0 |
PostCropVignetteAmount | 0 |
ProcessVersion | 5.7 |
ProfileDescription | sRGB IEC61966-2.1 |
Rating | 1 |
RedHue | 0 |
RedSaturation | 0 |
Rights | Eric Fagehreim |
Saturation | -20 |
SaturationAdjustmentAqua | 0 |
SaturationAdjustmentBlue | 0 |
SaturationAdjustmentGreen | 0 |
SaturationAdjustmentMagenta | 0 |
SaturationAdjustmentOrange | -5 |
SaturationAdjustmentPurple | 0 |
SaturationAdjustmentRed | +48 |
SaturationAdjustmentYellow | 0 |
ScaleFactor35efl | 1.0 |
SceneCaptureType | Standard |
SerialNumber | 1330823407 |
Shadows | 0 |
Shadows2012 | 0 |
ShadowTint | 0 |
SharpenDetail | 25 |
SharpenEdgeMasking | 0 |
SharpenRadius | +1.0 |
Sharpness | 0 |
ShutterSpeed | 1/160 |
ShutterSpeedValue | 1/160 |
Software | Adobe Photoshop Lightroom 4.0 (Windows) |
SplitToningBalance | 0 |
SplitToningHighlightHue | 28 |
SplitToningHighlightSaturation | 13 |
SplitToningShadowHue | 128 |
SplitToningShadowSaturation | 2 |
Subject | fotofashion, fotograf, pool, swimer, trondheim |
SubjectDistance | 1.48 m |
Title | copyright www.fotofashion.no |
ToneCurve | 0, 0, 255, 255 |
ToneCurveBlue | 0, 0, 255, 255 |
ToneCurveGreen | 0, 0, 255, 255 |
ToneCurveName | Linear |
ToneCurveName2012 | Linear |
ToneCurvePV2012 | 0, 0, 255, 255 |
ToneCurvePV2012Blue | 0, 0, 255, 255 |
ToneCurvePV2012Green | 0, 0, 255, 255 |
ToneCurvePV2012Red | 0, 0, 255, 255 |
ToneCurveRed | 0, 0, 255, 255 |
URL | http://www.fotofashion.no |
Version | 7.0 |
Vibrance | -2 |
VignetteAmount | -33 |
VignetteMidpoint | 50 |
WebStatement | http://www.fotofashion.no |
WhiteBalance (1) | Custom |
WhiteBalance | Auto |
Whites2012 | 0 |