Felt | Verdi |
AlreadyApplied | True |
Aperture | 4.0 |
ApertureValue | 4.0 |
BitsPerSample | 8 |
BlueHue | 0 |
BlueSaturation | -47 |
Brightness | +53 |
CameraProfile | Adobe Standard |
ChromaticAberrationB | 0 |
ChromaticAberrationR | 0 |
CircleOfConfusion | 0.019 mm |
Clarity | -3 |
ColorComponents | 3 |
ColorNoiseReduction | 78 |
ColorNoiseReductionDetail | 57 |
ColorTemperature | 5793 |
Contrast | +26 |
ConvertToGrayscale | False |
CreateDate (1) | 2011:08:06 12:56:58.42+02:00 |
CreateDate | 2011:08:06 12:56:58 |
CreatorTool | Adobe Photoshop Lightroom |
CustomRendered | Normal |
DateTimeDigitized | 2011:08:06 12:56:58.42+02:00 |
DateTimeOriginal (1) | 2011:08:06 12:56:58.42+02:00 |
DateTimeOriginal | 2011:08:06 12:56:58 |
Defringe | 0 |
DOF | 0.25 m (3.22 - 3.47 m) |
ExifImageHeight | 2848 |
ExifImageWidth | 4272 |
Exposure | 0.00 |
ExposureCompensation | 0 |
ExposureMode | Auto |
ExposureProgram | Aperture-priority AE |
ExposureTime | 1/500 |
FillLight | 15 |
Firmware | 1.0.4 |
Flash | Off, Did not fire |
FlashCompensation | 0 |
FlashFired | False |
FlashFunction | False |
FlashMode | Off |
FlashRedEyeMode | False |
FlashReturn | No return detection |
FNumber | 4.0 |
FocalLength | 81.0 mm |
FocalLength35efl | 81.0 mm (35 mm equivalent: 130.8 mm) |
FOV | 15.7 deg |
GrainAmount | 0 |
GreenHue | +3 |
GreenSaturation | 0 |
HasCrop | False |
HasSettings | True |
HighlightRecovery | 52 |
HueAdjustmentAqua | 0 |
HueAdjustmentBlue | 0 |
HueAdjustmentGreen | 0 |
HueAdjustmentMagenta | 0 |
HueAdjustmentOrange | 0 |
HueAdjustmentPurple | 0 |
HueAdjustmentRed | 0 |
HueAdjustmentYellow | 0 |
HyperfocalDistance | 88.19 m |
ImageHeight | 2848 |
ImageNumber | 0 |
ImageSize | 4272x2848 |
ImageWidth | 4272 |
ISO | 800 |
Lens | EF70-200mm f/4L IS USM |
LensID (1) | 242 |
LensID | Canon EF 70-200mm f/4L IS USM |
LensInfo | 70-200mm f/? |
LensManualDistortionAmount | 0 |
LensProfileEnable | 0 |
LensProfileSetup | LensDefaults |
LightValue | 10.0 |
LuminanceAdjustmentAqua | 0 |
LuminanceAdjustmentBlue | 0 |
LuminanceAdjustmentGreen | 0 |
LuminanceAdjustmentMagenta | 0 |
LuminanceAdjustmentOrange | +2 |
LuminanceAdjustmentPurple | 0 |
LuminanceAdjustmentRed | +7 |
LuminanceAdjustmentYellow | 0 |
LuminanceNoiseReductionContrast | 57 |
LuminanceNoiseReductionDetail | 87 |
LuminanceSmoothing | 28 |
Make | Canon |
MaxApertureValue | 4.0 |
Megapixels | 12.2 |
MeteringMode | Multi-segment |
Model | Canon EOS 450D |
ModifyDate (1) | 2011:08:08 20:13:49+02:00 |
ModifyDate | 2011:08:08 20:13:49 |
ParametricDarks | -7 |
ParametricHighlights | +18 |
ParametricHighlightSplit | 90 |
ParametricLights | -1 |
ParametricMidtoneSplit | 56 |
ParametricShadows | -3 |
ParametricShadowSplit | 17 |
PerspectiveHorizontal | 0 |
PerspectiveRotate | 0.0 |
PerspectiveScale | 100 |
PerspectiveVertical | 0 |
PostCropVignetteAmount | -68 |
PostCropVignetteFeather | 69 |
PostCropVignetteHighlightContrast | 0 |
PostCropVignetteMidpoint | 63 |
PostCropVignetteRoundness | -8 |
PostCropVignetteStyle | 1 |
ProcessVersion | 5.7 |
ProfileDescription | sRGB IEC61966-2.1 |
RedHue | 0 |
RedSaturation | 0 |
Saturation | -3 |
SaturationAdjustmentAqua | 0 |
SaturationAdjustmentBlue | 0 |
SaturationAdjustmentGreen | 0 |
SaturationAdjustmentMagenta | 0 |
SaturationAdjustmentOrange | 0 |
SaturationAdjustmentPurple | 0 |
SaturationAdjustmentRed | 0 |
SaturationAdjustmentYellow | +57 |
ScaleFactor35efl | 1.6 |
SceneCaptureType | Standard |
SerialNumber | 330119408 |
Shadows | 7 |
ShadowTint | 0 |
SharpenDetail | 54 |
SharpenEdgeMasking | 30 |
SharpenRadius | +0.5 |
Sharpness | 10 |
ShutterSpeed | 1/500 |
ShutterSpeedValue | 1/500 |
SplitToningBalance | 0 |
SplitToningHighlightHue | 0 |
SplitToningHighlightSaturation | 0 |
SplitToningShadowHue | 0 |
SplitToningShadowSaturation | 0 |
SubjectDistance | 3.34 m |
Tint | +9 |
ToneCurve | 0, 0, 32, 22, 64, 56, 128, 128, 192, 196, 255, 255 |
ToneCurveName | Medium Contrast |
Version | 6.1 |
Vibrance | +1 |
VignetteAmount | 0 |
WhiteBalance (2) | Custom |
WhiteBalance | Auto |