Felt | Verdi |
AlreadyApplied | True |
Aperture | 2.4 |
ApertureValue | 2.4 |
BitsPerSample | 8 |
BlueHue | 0 |
BlueSaturation | 0 |
Brightness | 0 |
CameraProfile | Embedded |
ChromaticAberrationB | 0 |
ChromaticAberrationR | 0 |
CircleOfConfusion | 0.006 mm |
Clarity | 0 |
ColorComponents | 3 |
ColorNoiseReduction | 0 |
ColorSpace | Uncalibrated |
Contrast | 0 |
ConvertToGrayscale | False |
CreateDate (1) | 2011:03:22 11:28:02+01:00 |
CreateDate | 2011:03:22 11:28:02 |
CreatorTool | Adobe Photoshop Lightroom 3.3 |
DateTimeDigitized | 2011:03:22 11:28:02+01:00 |
DateTimeOriginal (1) | 2011:03:22 11:28:02+01:00 |
DateTimeOriginal | 2011:03:22 11:28:02 |
Defringe | 0 |
DigitalZoomRatio | 0 |
ExifImageHeight | 785 |
ExifImageWidth | 900 |
Exposure | +0.40 |
ExposureCompensation | 0 |
ExposureProgram | Manual |
ExposureTime | 1/2000 |
FillLight | 0 |
Flash | Off, Did not fire |
FlashFired | False |
FlashFunction | False |
FlashMode | Off |
FlashRedEyeMode | False |
FlashReturn | No return detection |
FNumber | 2.4 |
Format | application/vnd.adobe.photoshop |
GrainAmount | 0 |
GreenHue | 0 |
GreenSaturation | 0 |
HasCrop | False |
HasSettings | True |
HighlightRecovery | 33 |
HueAdjustmentAqua | 0 |
HueAdjustmentBlue | 0 |
HueAdjustmentGreen | 0 |
HueAdjustmentMagenta | 0 |
HueAdjustmentOrange | 0 |
HueAdjustmentPurple | 0 |
HueAdjustmentRed | 0 |
HueAdjustmentYellow | 0 |
ImageHeight | 785 |
ImageSize | 900x785 |
ImageWidth | 900 |
IncrementalTemperature | +6 |
IncrementalTint | -3 |
ISO | 160 |
LensManualDistortionAmount | 0 |
LensProfileEnable | 0 |
LensProfileSetup | LensDefaults |
LightSource | Unknown |
LightValue | 12.8 |
LuminanceAdjustmentAqua | 0 |
LuminanceAdjustmentBlue | 0 |
LuminanceAdjustmentGreen | 0 |
LuminanceAdjustmentMagenta | 0 |
LuminanceAdjustmentOrange | 0 |
LuminanceAdjustmentPurple | 0 |
LuminanceAdjustmentRed | 0 |
LuminanceAdjustmentYellow | 0 |
LuminanceSmoothing | 0 |
Make | Leica Camera AG |
MaxApertureValue | 1.0 |
Megapixels | 0.707 |
MeteringMode | Center-weighted average |
Model | M8 Digital Camera |
ModifyDate (1) | 2011:03:23 17:38:12+01:00 |
ModifyDate | 2011:03:23 17:38:12 |
PaintCorrectionActive | true |
PaintCorrectionAmount | 1.000000 |
PaintCorrectionBrightness | 0.040000 |
PaintCorrectionClarity (1) | 0.616000 |
PaintCorrectionClarity | 0.504000 |
PaintCorrectionContrast | 0.000000 |
PaintCorrectionExposure | 0.024000 |
PaintCorrectionHue | 0.000000 |
PaintCorrectionMaskCenterWeight | 0.146956 |
PaintCorrectionMaskFlow | 0.974831 |
PaintCorrectionMaskRadius | 0.006725 |
PaintCorrectionMaskValue | 1.000000 |
PaintCorrectionMaskWhat | Mask/Paint |
PaintCorrectionSaturation (3) | 0.408000 |
PaintCorrectionSaturation | 0.000000 |
PaintCorrectionSharpness | 0.000000 |
PaintCorrectionWhat | Correction |
ParametricDarks | 0 |
ParametricHighlights | 0 |
ParametricHighlightSplit | 75 |
ParametricLights | 0 |
ParametricMidtoneSplit | 50 |
ParametricShadows | 0 |
ParametricShadowSplit | 25 |
PerspectiveHorizontal | 0 |
PerspectiveRotate | 0.0 |
PerspectiveScale | 100 |
PerspectiveVertical | 0 |
PostCropVignetteAmount | 0 |
ProcessVersion | 5.7 |
ProfileDescription | sRGB IEC61966-2.1 |
RedHue | 0 |
RedSaturation | 0 |
Saturation | -19 |
SaturationAdjustmentAqua | 0 |
SaturationAdjustmentBlue | 0 |
SaturationAdjustmentGreen | 0 |
SaturationAdjustmentMagenta | 0 |
SaturationAdjustmentOrange | -37 |
SaturationAdjustmentPurple | 0 |
SaturationAdjustmentRed | +38 |
SaturationAdjustmentYellow | -35 |
ScaleFactor35efl | 5.3 |
SceneCaptureType | Standard |
SceneType | Directly photographed |
SensitivityType | Unknown |
SerialNumber | 3330560 |
Shadows | 0 |
ShadowTint | 0 |
SharpenDetail | 25 |
SharpenEdgeMasking | 0 |
SharpenRadius | +1.0 |
Sharpness | 0 |
ShutterSpeed | 1/2000 |
ShutterSpeedValue | 1/2000 |
Software | 2.005 |
SplitToningBalance | 0 |
SplitToningHighlightHue | 0 |
SplitToningHighlightSaturation | 0 |
SplitToningShadowHue | 0 |
SplitToningShadowSaturation | 0 |
ToneCurve | 0, 0, 255, 255 |
ToneCurveName | Linear |
Version | 6.3 |
Vibrance | +33 |
VignetteAmount | 0 |
WhiteBalance (2) | Custom |
WhiteBalance | Auto |