Felt | Verdi |
AlreadyApplied | True |
Aperture | 2.8 |
ApertureValue | 2.8 |
ApproximateFocusDistance | 1.54 |
BitsPerSample | 8 |
BlueHue | -75 |
BlueSaturation | -64 |
Brightness | +41 |
CameraProfile | ACR 4.4 |
ChromaticAberrationB | 0 |
ChromaticAberrationR | -100 |
CircleOfConfusion | 0.023 mm |
Clarity | +15 |
ColorComponents | 1 |
ColorNoiseReduction | 25 |
ColorNoiseReductionDetail | 50 |
ColorTemperature | 3600 |
Contrast | +25 |
ConvertToGrayscale | True |
CreateDate (1) | 2011:01:08 16:17:33.62+03:00 |
CreateDate | 2011:01:08 16:17:33 |
CreatorTool | Adobe Photoshop Lightroom 3.3 |
CustomRendered | Normal |
DateTimeDigitized | 2011:01:08 16:17:33.62+03:00 |
DateTimeOriginal (1) | 2011:01:08 16:17:33.62+03:00 |
DateTimeOriginal | 2011:01:08 16:17:33 |
Defringe | 0 |
DOF | 0.55 m (1.31 - 1.86 m) |
ExifImageHeight | 683 |
ExifImageWidth | 1024 |
Exposure | -0.65 |
ExposureCompensation | 0 |
ExposureMode | Manual |
ExposureProgram | Manual |
ExposureTime | 1/50 |
FillLight | 0 |
Firmware | 1.3.0 |
Flash | No Flash |
FlashCompensation | 0 |
FlashFired | False |
FlashFunction | False |
FlashMode | Unknown |
FlashRedEyeMode | False |
FlashReturn | No return detection |
FNumber | 2.8 |
FocalLength | 24.0 mm |
FocalLength35efl | 24.0 mm (35 mm equivalent: 30.8 mm) |
FOV | 60.7 deg |
GrainAmount | 0 |
GrayMixerAqua | -12 |
GrayMixerBlue | +32 |
GrayMixerGreen | -33 |
GrayMixerMagenta | +10 |
GrayMixerOrange | -27 |
GrayMixerPurple | +33 |
GrayMixerRed | -14 |
GrayMixerYellow | -32 |
GreenHue | -85 |
GreenSaturation | 0 |
HasCrop | False |
HasSettings | True |
HighlightRecovery | 0 |
HyperfocalDistance | 8.77 m |
ImageHeight | 683 |
ImageNumber | 0 |
ImageSize | 1024x683 |
ImageWidth | 1024 |
ISO | 100 |
Lens | EF24-70mm f/2.8L USM |
LensID (1) | 230 |
LensID | Canon EF 24-70mm f/2.8L USM |
LensInfo | 24-70mm f/? |
LensManualDistortionAmount | 0 |
LensModel | EF24-70mm f/2.8L USM |
LensProfileEnable | 0 |
LensProfileSetup | LensDefaults |
LightValue | 8.6 |
LuminanceNoiseReductionContrast | 0 |
LuminanceNoiseReductionDetail | 50 |
LuminanceSmoothing | 68 |
Make | Canon |
MaxApertureValue | 2.8 |
Megapixels | 0.699 |
MeteringMode | Spot |
Model | Canon EOS-1D Mark III |
ModifyDate (1) | 2011:01:22 12:18:12+03:00 |
ModifyDate | 2011:01:22 12:18:12 |
PaintCorrectionActive | true |
PaintCorrectionAmount | 1.000000 |
PaintCorrectionBrightness | 0.000000 |
PaintCorrectionClarity | 0.000000 |
PaintCorrectionContrast | 0.000000 |
PaintCorrectionExposure | 0.152941 |
PaintCorrectionHue | 0.000000 |
PaintCorrectionMaskCenterWeight | 0.182126 |
PaintCorrectionMaskFlow | 1.000000 |
PaintCorrectionMaskRadius | 0.029510 |
PaintCorrectionMaskValue | 1.000000 |
PaintCorrectionMaskWhat | Mask/Paint |
PaintCorrectionSaturation | 0.000000 |
PaintCorrectionSharpness | 0.000000 |
PaintCorrectionWhat | Correction |
ParametricDarks | -20 |
ParametricHighlights | +10 |
ParametricHighlightSplit | 75 |
ParametricLights | -22 |
ParametricMidtoneSplit | 50 |
ParametricShadows | +10 |
ParametricShadowSplit | 25 |
PerspectiveHorizontal | 0 |
PerspectiveRotate | 0.0 |
PerspectiveScale | 100 |
PerspectiveVertical | 0 |
PostCropVignetteAmount | -15 |
PostCropVignetteFeather | 50 |
PostCropVignetteHighlightContrast | 0 |
PostCropVignetteMidpoint | 50 |
PostCropVignetteRoundness | 0 |
PostCropVignetteStyle | 1 |
ProcessVersion | 5.7 |
ProfileDescription | sRGB IEC61966-2.1 |
Rating | 4 |
RedHue | +22 |
RedSaturation | -91 |
ScaleFactor35efl | 1.3 |
SceneCaptureType | Standard |
SensitivityType | Unknown |
SerialNumber | 529490 |
Shadows | 20 |
ShadowTint | -39 |
SharpenDetail | 25 |
SharpenEdgeMasking | 0 |
SharpenRadius | +1.0 |
Sharpness | 27 |
ShutterSpeed | 1/50 |
ShutterSpeedValue | 1/50 |
SplitToningBalance | 0 |
SplitToningHighlightHue | 0 |
SplitToningHighlightSaturation | 0 |
SplitToningShadowHue | 0 |
SplitToningShadowSaturation | 0 |
SubjectDistance | 1.54 m |
Tint | +66 |
ToneCurve | 0, 0, 32, 22, 64, 56, 136, 128, 192, 196, 255, 255 |
ToneCurveName | Custom |
Version | 6.3 |
VignetteAmount | -75 |
VignetteMidpoint | 25 |
WhiteBalance (2) | Custom |
WhiteBalance | Auto |