Felt | Verdi |
AlreadyApplied | True |
BitsPerSample | 8 |
BlackClip | 0.024200 |
BlueHue | 0 |
BlueSaturation | 0 |
Brightness | 0 |
CameraProfile | Embedded |
ChromaticAberrationB | 0 |
ChromaticAberrationR | 0 |
Clarity | +63 |
ColorComponents | 3 |
ColorNoiseReduction | 0 |
ColorSaturation | 46.0 |
ColorSpace | Uncalibrated |
ColorTemperature | 0.6 |
Contrast | -21 |
ConvertToGrayscale | False |
CreateDate | 2010:12:30 21:14:10+01:00 |
CreatorTool | Adobe Photoshop Lightroom 3.3 |
CropAngle | 0 |
CropBottom | 0.989175 |
CropConstrainToWarp | 0 |
CropHeight | 800 |
CropLeft | 0 |
CropRight | 0.852605 |
CropTop | 0.067659 |
CropUnit | pixels |
CropWidth | 788 |
Defringe | 0 |
ExifImageHeight | 800 |
ExifImageWidth | 788 |
Exposure | +0.15 |
FillLight | 0 |
Format | application/vnd.adobe.photoshop |
Gamma | 1.2 |
GrainAmount | 0 |
GreenHue | 0 |
GreenSaturation | 0 |
HasCrop | True |
HasSettings | True |
HighlightRecovery | 23 |
HighlightsSmoothing | 0.0 |
HueAdjustmentAqua | 0 |
HueAdjustmentBlue | 0 |
HueAdjustmentGreen | 0 |
HueAdjustmentMagenta | 0 |
HueAdjustmentOrange | 0 |
HueAdjustmentPurple | 0 |
HueAdjustmentRed | 0 |
HueAdjustmentYellow | 0 |
ImageHeight | 800 |
ImageSize | 788x800 |
ImageWidth | 788 |
IncrementalTemperature | +16 |
IncrementalTint | -2 |
LensManualDistortionAmount | 0 |
LensProfileEnable | 0 |
LensProfileSetup | LensDefaults |
LuminanceAdjustmentAqua | 0 |
LuminanceAdjustmentBlue | 0 |
LuminanceAdjustmentGreen | 0 |
LuminanceAdjustmentMagenta | 0 |
LuminanceAdjustmentOrange | 0 |
LuminanceAdjustmentPurple | 0 |
LuminanceAdjustmentRed | 0 |
LuminanceAdjustmentYellow | 0 |
LuminanceSmoothing | 0 |
Luminosity | -4.3 |
Megapixels | 0.630 |
Method | Details Enhancer |
Microcontrast | 0.3 |
Microsmoothing | 2.0 |
ModifyDate (1) | 2011:01:24 14:17:53+01:00 |
ModifyDate | 2011:01:24 14:17:53 |
PaintCorrectionActive | true |
PaintCorrectionAmount | 1.000000 |
PaintCorrectionBrightness (1) | -0.027523 |
PaintCorrectionBrightness (3) | 0.000000 |
PaintCorrectionBrightness (4) | 0.155963 |
PaintCorrectionBrightness | 0.082569 |
PaintCorrectionClarity (1) | -0.321101 |
PaintCorrectionClarity (2) | 0.871560 |
PaintCorrectionClarity (4) | 0.027523 |
PaintCorrectionClarity | 0.000000 |
PaintCorrectionContrast (1) | -0.100917 |
PaintCorrectionContrast (2) | -0.045872 |
PaintCorrectionContrast (4) | 0.045872 |
PaintCorrectionContrast | 0.000000 |
PaintCorrectionExposure (2) | 0.027523 |
PaintCorrectionExposure (4) | 0.137615 |
PaintCorrectionExposure | 0.000000 |
PaintCorrectionHue | 0.000000 |
PaintCorrectionMaskCenterWeight | 0.146956 |
PaintCorrectionMaskFlow | 0.974831 |
PaintCorrectionMaskRadius (10) | 0.030124 |
PaintCorrectionMaskRadius (2) | 0.036006 |
PaintCorrectionMaskRadius (4) | 0.167889 |
PaintCorrectionMaskRadius (5) | 0.129474 |
PaintCorrectionMaskRadius (6) | 0.159994 |
PaintCorrectionMaskRadius (7) | 0.152205 |
PaintCorrectionMaskRadius (8) | 0.200528 |
PaintCorrectionMaskRadius | 0.010322 |
PaintCorrectionMaskValue | 1.000000 |
PaintCorrectionMaskWhat | Mask/Paint |
PaintCorrectionSaturation (1) | -0.706422 |
PaintCorrectionSaturation (3) | 0.798165 |
PaintCorrectionSaturation (5) | -0.724771 |
PaintCorrectionSaturation (7) | 0.155963 |
PaintCorrectionSaturation | 0.000000 |
PaintCorrectionSharpness (4) | 0.045872 |
PaintCorrectionSharpness | 0.000000 |
PaintCorrectionWhat | Correction |
ParametricDarks | 0 |
ParametricHighlights | 0 |
ParametricHighlightSplit | 75 |
ParametricLights | 0 |
ParametricMidtoneSplit | 50 |
ParametricShadows | 0 |
ParametricShadowSplit | 25 |
PerspectiveHorizontal | 0 |
PerspectiveRotate | 0.0 |
PerspectiveScale | 100 |
PerspectiveVertical | 0 |
PostCropVignetteAmount | 0 |
ProcessVersion | 5.7 |
ProfileDescription | sRGB IEC61966-2.1 |
RedHue | 0 |
RedSaturation | 0 |
Saturation | -23 |
SaturationAdjustmentAqua | 0 |
SaturationAdjustmentBlue | 0 |
SaturationAdjustmentGreen | 0 |
SaturationAdjustmentMagenta | 0 |
SaturationAdjustmentOrange | 0 |
SaturationAdjustmentPurple | 0 |
SaturationAdjustmentRed | 0 |
SaturationAdjustmentYellow | 0 |
SaturationHighlights | 0.0 |
SaturationShadows | 1.0 |
SensitivityType | Unknown |
Shadows | 10 |
ShadowsClipping | 0.0 |
ShadowsSmoothing | 0.0 |
ShadowTint | 0 |
SharpenDetail | 25 |
SharpenEdgeMasking | 0 |
SharpenRadius | +1.0 |
Sharpness | 0 |
Smoothing | 0.0 |
SmoothingMode | Slider |
Software | Adobe Photoshop CS4 Macintosh |
SplitToningBalance | 0 |
SplitToningHighlightHue | 51 |
SplitToningHighlightSaturation | 53 |
SplitToningShadowHue | 0 |
SplitToningShadowSaturation | 0 |
Strength | 70.0 |
ToneCurve | 0, 0, 255, 255 |
ToneCurveName | Linear |
Version (1) | 3.2 |
Version | 6.3 |
Vibrance | +36 |
VignetteAmount | 0 |
WhiteBalance | Custom |
WhiteClip | 0.250000 |