Felt | Verdi |
AlreadyApplied | True |
Aperture | 2.8 |
ApertureValue | 2.8 |
Artist | ANETTE LAWRENCE |
BitsPerSample | 8 |
BlueHue | 0 |
BlueSaturation | 0 |
Brightness | +50 |
By-line | ANETTE LAWRENCE |
By-lineTitle | |
CameraProfile | ACR 4.4 |
Caption-Abstract | |
Category | |
CFAPattern | [Red,Green][Green,Blue] |
ChromaticAberrationB | 0 |
ChromaticAberrationR | 0 |
CircleOfConfusion | 0.030 mm |
City | |
Clarity | 0 |
ColorComponents | 3 |
ColorMode | RGB |
ColorNoiseReduction | 25 |
ColorSpace | Uncalibrated |
ColorTemperature | 6150 |
Contrast (1) | +30 |
Contrast | Normal |
ConvertToGrayscale | False |
Copyright | Anette Lawrence |
CopyrightNotice | Anette Lawrence |
Country-PrimaryLocationCode | |
Country-PrimaryLocationName | |
CreateDate (1) | 2010:06:06 20:29:43.23+02:00 |
CreateDate | 2010:06:06 20:29:43 |
Creator | ANETTE LAWRENCE |
CreatorTool | Ver.2.01 |
Credit | |
CustomRendered | Normal |
DateCreated | |
DateSent | |
DateTimeDigitized | 2010:06:06 20:29:43.23+02:00 |
DateTimeOriginal (1) | 2010:06:06 20:29:43.23+02:00 |
DateTimeOriginal | 2010:06:06 20:29:43 |
Defringe | 0 |
Destination | |
DigitalZoomRatio | 1 |
ExifImageHeight | 665 |
ExifImageWidth | 1000 |
ExpirationDate | |
ExpirationTime | |
Exposure | +0.25 |
ExposureCompensation | 0 |
ExposureMode | Manual |
ExposureProgram | Manual |
ExposureTime | 1/320 |
FileFormat | No ObjectData |
FileVersion | 0 |
FillLight | 0 |
Flash | On, Return not detected |
FlashFired | True |
FlashFunction | False |
FlashMode | On |
FlashRedEyeMode | False |
FlashReturn | Return not detected |
FNumber | 2.8 |
FocalLength | 85.0 mm |
FocalLength35efl | 85.0 mm (35 mm equivalent: 85.0 mm) |
FocalLengthIn35mmFormat | 85 mm |
Format | image/jpeg |
FOV | 23.9 deg |
GainControl | None |
GreenHue | 0 |
GreenSaturation | 0 |
HasCrop | False |
HasSettings | True |
Headline | |
HighlightRecovery | 18 |
HueAdjustmentAqua | 0 |
HueAdjustmentBlue | 0 |
HueAdjustmentGreen | 0 |
HueAdjustmentMagenta | 0 |
HueAdjustmentOrange | 0 |
HueAdjustmentPurple | 0 |
HueAdjustmentRed | 0 |
HueAdjustmentYellow | 0 |
HyperfocalDistance | 85.88 m |
ICCProfileName | Adobe RGB (1998) |
IFD0_Offset | 998 |
ImageDataSize | 298698 |
ImageHeight | 665 |
ImageNumber | 39136 |
ImageSize | 1000x665 |
ImageWidth | 1000 |
ISO | 200 |
LanguageIdentifier | |
Lens | 85.0 mm f/1.8 |
LensInfo | 85mm f/1.8 |
LightSource | Flash |
LightValue | 10.3 |
LuminanceAdjustmentAqua | 0 |
LuminanceAdjustmentBlue | 0 |
LuminanceAdjustmentGreen | 0 |
LuminanceAdjustmentMagenta | 0 |
LuminanceAdjustmentOrange | 0 |
LuminanceAdjustmentPurple | 0 |
LuminanceAdjustmentRed | 0 |
LuminanceAdjustmentYellow | 0 |
LuminanceSmoothing | 0 |
Make | NIKON CORPORATION |
MakerNoteVersion | 2.10 |
MaxApertureValue | 1.7 |
Megapixels | 0.665 |
MeteringMode | Spot |
Model | NIKON D3 |
ModifyDate (1) | 2010:06:07 01:01:24+02:00 |
ModifyDate | 2010:06:07 12:43:27 |
NEFBitDepth | n/a (JPEG) |
NikonCaptureVersion | Capture NX 1.3.0 W |
ObjectName | |
Orientation | Horizontal (normal) |
OriginalTransmissionReference | |
OriginatingProgram | |
ParametricDarks | 0 |
ParametricHighlights | 0 |
ParametricHighlightSplit | 75 |
ParametricLights | 0 |
ParametricMidtoneSplit | 50 |
ParametricShadows | 0 |
ParametricShadowSplit | 25 |
PostCropVignetteAmount | 0 |
PreviewIFD_Offset | 898 |
ProductID | |
ProfileDescription | Nikon sRGB 4.0.0.3001 |
ProgramVersion | |
Province-State | |
Rating | 0 |
RawFileName | christina wedding eddition_0109.NEF |
RedHue | 0 |
RedSaturation | 0 |
ReleaseDate | |
ReleaseTime | |
Rights | Anette Lawrence |
Saturation (1) | 0 |
Saturation | High |
SaturationAdjustmentAqua | 0 |
SaturationAdjustmentBlue | 0 |
SaturationAdjustmentGreen | 0 |
SaturationAdjustmentMagenta | 0 |
SaturationAdjustmentOrange | 0 |
SaturationAdjustmentPurple | 0 |
SaturationAdjustmentRed | 0 |
SaturationAdjustmentYellow | 0 |
ScaleFactor35efl | 1.0 |
SceneCaptureType | Standard |
SceneType | Directly photographed |
SensingMethod | One-chip color area |
SerialNumber | 2025934 |
ServiceIdentifier | |
Shadows | 10 |
ShadowTint | 0 |
SharpenDetail | 25 |
SharpenEdgeMasking | 0 |
SharpenRadius | +1.0 |
Sharpness (1) | 25 |
Sharpness | Hard |
ShutterSpeed | 1/320 |
ShutterSpeedValue (1) | 1/320 |
ShutterSpeedValue | 1 |
SidecarForExtension | NEF |
Software | Capture NX 1.3.0 W |
Source | |
SpecialInstructions | |
SplitToningBalance | 0 |
SplitToningHighlightHue | 0 |
SplitToningHighlightSaturation | 0 |
SplitToningShadowHue | 0 |
SplitToningShadowSaturation | 0 |
SubjectDistanceRange | Unknown |
TimeSent | |
Tint | -6 |
ToneCurve | 0, 0, 32, 22, 64, 56, 128, 128, 192, 196, 255, 255 |
ToneCurveName | Medium Contrast |
Version | 5.0 |
Vibrance | 0 |
VignetteAmount | 0 |
WhiteBalance (1) | As Shot |
WhiteBalance | Manual |
Writer-Editor | |