Felt | Verdi |
AlreadyApplied | True |
Aperture | 40.0 |
ApertureValue | 40.0 |
Artist | Ingemar Tommeraas |
BitsPerSample | 8 |
BlueHue | 0 |
BlueSaturation | 0 |
Brightness | 0 |
By-line | Ingemar Tommeraas |
CameraProfile | Embedded |
CFAPattern | [Red,Green][Green,Blue] |
ChromaticAberrationB | 0 |
ChromaticAberrationR | 0 |
CircleOfConfusion | 0.020 mm |
Clarity | +52 |
ColorComponents | 3 |
ColorNoiseReduction | 0 |
Contrast (2) | 0 |
Contrast | Normal |
ConvertToGrayscale | False |
Copyright | Ingemar Tommeraas |
CopyrightNotice | Ingemar Tommeraas |
CreateDate (1) | 2010:09:04 16:28:17.25+02:00 |
CreateDate | 2010:09:04 16:28:17 |
Creator | Ingemar Tommeraas |
CreatorTool | Adobe Photoshop Lightroom |
CropAngle | 0 |
CropBottom | 0.812217 |
CropHeight | 2075 |
CropLeft | 0.109774 |
CropRight | 0.908271 |
CropTop | 0.08371 |
CropUnit | pixels |
CropWidth | 3424 |
CustomRendered | Normal |
DateTimeDigitized | 2010:09:04 16:28:17.25+02:00 |
DateTimeOriginal (1) | 2010:09:04 16:28:17.25+02:00 |
DateTimeOriginal | 2010:09:04 16:28:17 |
Defringe | 0 |
DigitalZoomRatio | 1 |
ExifImageHeight | 2075 |
ExifImageWidth | 3424 |
Exposure | -0.57 |
ExposureCompensation | -2/3 |
ExposureMode | Manual |
ExposureProgram | Manual |
ExposureTime | 1/250 |
FillLight | 0 |
Flash | On, Return not detected |
FlashFired | True |
FlashFunction | False |
FlashMode | On |
FlashRedEyeMode | False |
FlashReturn | Return not detected |
FNumber | 40.0 |
FocalLength | 90.0 mm |
FocalLength35efl | 90.0 mm (35 mm equivalent: 135.0 mm) |
FocalLengthIn35mmFormat | 135 mm |
FOV | 15.2 deg |
GainControl | None |
GreenHue | 0 |
GreenSaturation | 0 |
HasCrop | True |
HasSettings | True |
HighlightRecovery | 0 |
HueAdjustmentAqua | 0 |
HueAdjustmentBlue | 0 |
HueAdjustmentGreen | 0 |
HueAdjustmentMagenta | 0 |
HueAdjustmentOrange | 0 |
HueAdjustmentPurple | 0 |
HueAdjustmentRed | 0 |
HueAdjustmentYellow | 0 |
HyperfocalDistance | 10.11 m |
ImageHeight | 2075 |
ImageNumber | 19897 |
ImageSize | 3424x2075 |
ImageWidth | 3424 |
IncrementalTemperature | 0 |
IncrementalTint | 0 |
ISO | 200 |
Lens | 90.0 mm f/2.8 |
LensInfo | 90mm f/2.8 |
LightSource | Unknown |
LightValue | 17.6 |
LuminanceAdjustmentAqua | 0 |
LuminanceAdjustmentBlue | 0 |
LuminanceAdjustmentGreen | 0 |
LuminanceAdjustmentMagenta | 0 |
LuminanceAdjustmentOrange | 0 |
LuminanceAdjustmentPurple | 0 |
LuminanceAdjustmentRed | 0 |
LuminanceAdjustmentYellow | 0 |
LuminanceSmoothing | 0 |
Make | NIKON CORPORATION |
MaxApertureValue | 5.7 |
Megapixels | 7.1 |
MeteringMode | Multi-segment |
Model | NIKON D300 |
ModifyDate (1) | 2010:11:04 21:00:18+01:00 |
ModifyDate | 2010:11:04 21:00:18 |
ParametricDarks | 0 |
ParametricHighlights | 0 |
ParametricHighlightSplit | 75 |
ParametricLights | 0 |
ParametricMidtoneSplit | 50 |
ParametricShadows | +71 |
ParametricShadowSplit | 25 |
PostCropVignetteAmount | 0 |
ProfileDescription | sRGB IEC61966-2.1 |
RedHue | 0 |
RedSaturation | 0 |
Rights | Ingemar Tommeraas |
Saturation (2) | 0 |
Saturation | Normal |
SaturationAdjustmentAqua | 0 |
SaturationAdjustmentBlue | 0 |
SaturationAdjustmentGreen | 0 |
SaturationAdjustmentMagenta | 0 |
SaturationAdjustmentOrange | 0 |
SaturationAdjustmentPurple | 0 |
SaturationAdjustmentRed | 0 |
SaturationAdjustmentYellow | 0 |
ScaleFactor35efl | 1.5 |
SceneCaptureType | Standard |
SceneType | Directly photographed |
SensingMethod | One-chip color area |
SerialNumber | 4157941 |
Shadows | 0 |
ShadowTint | 0 |
SharpenDetail | 25 |
SharpenEdgeMasking | 0 |
SharpenRadius | +1.0 |
Sharpness (2) | 0 |
Sharpness | Normal |
ShutterSpeed | 1/250 |
ShutterSpeedValue | 1/250 |
Software | Ver.1.10 |
SplitToningBalance | 0 |
SplitToningHighlightHue | 0 |
SplitToningHighlightSaturation | 0 |
SplitToningShadowHue | 0 |
SplitToningShadowSaturation | 0 |
SubjectDistanceRange | Unknown |
ToneCurve | 0, 0, 255, 255 |
ToneCurveName | Linear |
Version | 5.5 |
Vibrance | +64 |
VignetteAmount | 0 |
WhiteBalance (2) | As Shot |
WhiteBalance | Auto |