Felt | Verdi |
AlreadyApplied | True |
Aperture | 5.6 |
ApertureValue | 5.6 |
BitsPerSample | 8 |
BlueHue | 0 |
BlueSaturation | 0 |
Brightness | 0 |
CameraProfile | Embedded |
ChromaticAberrationB | 0 |
ChromaticAberrationR | 0 |
CircleOfConfusion | 0.019 mm |
Clarity | 0 |
ColorComponents | 3 |
ColorNoiseReduction | 0 |
Contrast | 0 |
ConvertToGrayscale | False |
CreateDate (1) | 2010:05:24 14:25:47.95+02:00 |
CreateDate | 2010:05:24 14:25:47 |
CreatorTool | Adobe Photoshop Lightroom |
CropAngle | 0 |
CropBottom | 0.808354 |
CropHeight | 2429 |
CropLeft | 0.140983 |
CropRight | 0.955738 |
CropTop | 0.041769 |
CropUnit | pixels |
CropWidth | 3872 |
CustomRendered | Normal |
DateTimeDigitized | 2010:05:24 14:25:47.95+02:00 |
DateTimeOriginal (1) | 2010:05:24 14:25:47.95+02:00 |
DateTimeOriginal | 2010:05:24 14:25:47 |
Defringe | 0 |
ExifImageHeight | 2429 |
ExifImageWidth | 3872 |
Exposure | 0.00 |
ExposureCompensation | 0 |
ExposureMode | Auto |
ExposureProgram | Shutter speed priority AE |
ExposureTime | 1/640 |
FillLight | 0 |
Firmware | 1.0.6 |
Flash | Off, Did not fire |
FlashCompensation | 0 |
FlashFired | False |
FlashFunction | False |
FlashMode | Off |
FlashRedEyeMode | False |
FlashReturn | No return detection |
FNumber | 5.6 |
FocalLength | 145.0 mm |
FocalLength35efl | 145.0 mm (35 mm equivalent: 229.8 mm) |
FOV | 9.0 deg |
GreenHue | -10 |
GreenSaturation | 0 |
HasCrop | True |
HasSettings | True |
HighlightRecovery | 0 |
HueAdjustmentAqua | 0 |
HueAdjustmentBlue | 0 |
HueAdjustmentGreen | 0 |
HueAdjustmentMagenta | 0 |
HueAdjustmentOrange | 0 |
HueAdjustmentPurple | 0 |
HueAdjustmentRed | 0 |
HueAdjustmentYellow | 0 |
HyperfocalDistance | 198.00 m |
ImageHeight | 2429 |
ImageNumber | 0 |
ImageSize | 3872x2429 |
ImageWidth | 3872 |
IncrementalTemperature | +1 |
IncrementalTint | 0 |
ISO | 125 |
Lens | EF-S18-200mm f/3.5-5.6 IS |
LensInfo | 18-200mm f/? |
LightValue | 14.0 |
LuminanceAdjustmentAqua | 0 |
LuminanceAdjustmentBlue | 0 |
LuminanceAdjustmentGreen | 0 |
LuminanceAdjustmentMagenta | 0 |
LuminanceAdjustmentOrange | -26 |
LuminanceAdjustmentPurple | 0 |
LuminanceAdjustmentRed | -7 |
LuminanceAdjustmentYellow | -43 |
LuminanceSmoothing | 0 |
Make | Canon |
MaxApertureValue | 5.7 |
Megapixels | 9.4 |
MeteringMode | Spot |
Model | Canon EOS 50D |
ModifyDate (1) | 2010:05:29 07:07:32+02:00 |
ModifyDate | 2010:05:29 07:07:32 |
ParametricDarks | 0 |
ParametricHighlights | 0 |
ParametricHighlightSplit | 75 |
ParametricLights | 0 |
ParametricMidtoneSplit | 50 |
ParametricShadows | 0 |
ParametricShadowSplit | 25 |
PostCropVignetteAmount | 0 |
ProfileDescription | sRGB IEC61966-2.1 |
RedHue | 0 |
RedSaturation | 0 |
Saturation | +33 |
SaturationAdjustmentAqua | +7 |
SaturationAdjustmentBlue | +60 |
SaturationAdjustmentGreen | +2 |
SaturationAdjustmentMagenta | -43 |
SaturationAdjustmentOrange | 0 |
SaturationAdjustmentPurple | -74 |
SaturationAdjustmentRed | +26 |
SaturationAdjustmentYellow | -10 |
ScaleFactor35efl | 1.6 |
SceneCaptureType | Standard |
SerialNumber | 930504912 |
Shadows | 4 |
ShadowTint | 0 |
SharpenDetail | 57 |
SharpenEdgeMasking | 75 |
SharpenRadius | +1.5 |
Sharpness | 64 |
ShutterSpeed | 1/640 |
ShutterSpeedValue | 1/640 |
SplitToningBalance | 0 |
SplitToningHighlightHue | 0 |
SplitToningHighlightSaturation | 0 |
SplitToningShadowHue | 0 |
SplitToningShadowSaturation | 0 |
ToneCurve | 0, 0, 255, 255 |
ToneCurveName | Linear |
Version | 5.2 |
Vibrance | +100 |
VignetteAmount | -33 |
VignetteMidpoint | 0 |
WhiteBalance (2) | Custom |
WhiteBalance | Auto |