Felt | Verdi |
AlreadyApplied | True |
Aperture | 2.8 |
ApertureValue | 2.8 |
BitsPerSample (1) | 8, 8, 8 |
BitsPerSample | 8 |
BlueHue | 0 |
BlueSaturation | 0 |
Brightness | +50 |
CameraProfile | Adobe Standard |
CFAPattern | [Green,Blue][Red,Green] |
ChromaticAberrationB | 0 |
ChromaticAberrationR | 0 |
CircleOfConfusion | 0.020 mm |
Clarity | 0 |
ColorComponents | 1 |
ColorMode | RGB |
ColorNoiseReduction | 25 |
ColorSpace | Uncalibrated |
ColorTemperature | 5150 |
Contrast (2) | +53 |
Contrast | Normal |
ConvertToGrayscale | True |
CreateDate (1) | 2009:11:20 18:10:19.80+01:00 |
CreateDate | 2009:11:20 18:10:19 |
CreatorTool | Ver.1.10 |
CustomRendered | Normal |
DateTimeDigitized | 2009:11:20 18:10:19.80+01:00 |
DateTimeOriginal (1) | 2009:11:20 18:10:19.80+01:00 |
DateTimeOriginal | 2009:11:20 18:10:19 |
Defringe | 0 |
DigitalZoomRatio | 1 |
ExifImageHeight | 686 |
ExifImageWidth | 1024 |
Exposure | 0.00 |
ExposureCompensation | 0 |
ExposureMode | Manual |
ExposureProgram | Manual |
ExposureTime | 1/50 |
FillLight | 0 |
Flash | No Flash |
FlashFired | False |
FlashFunction | False |
FlashMode | Unknown |
FlashRedEyeMode | False |
FlashReturn | No return detection |
FNumber | 2.8 |
FocalLength | 48.0 mm |
FocalLength35efl | 48.0 mm (35 mm equivalent: 72.0 mm) |
FocalLengthIn35mmFormat | 72 mm |
Format | image/jpeg |
FOV | 28.1 deg |
GainControl | Low gain up |
GrayMixerAqua | -23 |
GrayMixerBlue | -1 |
GrayMixerGreen | -19 |
GrayMixerMagenta | +12 |
GrayMixerOrange | -2 |
GrayMixerPurple | +12 |
GrayMixerRed | +18 |
GrayMixerYellow | -8 |
GreenHue | 0 |
GreenSaturation | 0 |
HasCrop | False |
HasSettings | True |
HighlightRecovery | 12 |
HyperfocalDistance | 41.08 m |
ICCProfileName | Generic RGB Profile |
ImageHeight | 686 |
ImageNumber | 11357 |
ImageSize | 1024x686 |
ImageWidth | 1024 |
ISO | 400 |
Label | Approved |
Lens | 35.0-70.0 mm f/2.8 |
LensInfo | 35-70mm f/2.8 |
LightSource | Unknown |
LightValue | 6.6 |
LuminanceSmoothing | 0 |
Make | NIKON CORPORATION |
MaxApertureValue | 2.8 |
Megapixels | 0.702 |
MeteringMode | Center-weighted average |
Model | NIKON D80 |
ModifyDate (1) | 2009:11:21 16:03:40+01:00 |
ModifyDate | 2009:11:21 16:03:40 |
Orientation | Horizontal (normal) |
ParametricDarks | 0 |
ParametricHighlights | 0 |
ParametricHighlightSplit | 75 |
ParametricLights | 0 |
ParametricMidtoneSplit | 50 |
ParametricShadows | 0 |
ParametricShadowSplit | 25 |
PhotometricInterpretation | RGB |
PostCropVignetteAmount | 0 |
ProfileDescription | Generic RGB Profile |
ProfileDescriptionML | Generic RGB Profile |
ProfileDescriptionML-da-DK | Generel RGB-beskrivelse |
ProfileDescriptionML-de-DE | Allgemeines RGB-Profil |
ProfileDescriptionML-es-ES | Perfil RGB Genérico |
ProfileDescriptionML-fi-FI | Yleinen RGB-profiili |
ProfileDescriptionML-fr-FU | Profil Générique RVB |
ProfileDescriptionML-it-IT | Profilo RGB Generico |
ProfileDescriptionML-ja-JP | 一般 RGB プロファイル |
ProfileDescriptionML-ko-KR | 일반 RGB 프로파일 |
ProfileDescriptionML-nb-NO | Generisk RGB-profil |
ProfileDescriptionML-nl-NL | Algemeen RGB-profiel |
ProfileDescriptionML-pl-PL | Uniwersalny profil RGB |
ProfileDescriptionML-pt-BR | Perfil RGB Genérico |
ProfileDescriptionML-ru-RU | Общий профиль RGB |
ProfileDescriptionML-sv-SE | Generisk RGB-profil |
ProfileDescriptionML-zh-CN | 普通 RGB 描述文件 |
ProfileDescriptionML-zh-TW | 通用 RGB 色彩描述 |
Rating | 0 |
RawFileName | DSC_0254.NEF |
RedHue | 0 |
RedSaturation | 0 |
SamplesPerPixel | 3 |
Saturation | Normal |
ScaleFactor35efl | 1.5 |
SceneCaptureType | Standard |
SceneType | Directly photographed |
SensingMethod | One-chip color area |
SerialNumber | 4473501 |
Shadows | 9 |
ShadowTint | 0 |
SharpenDetail | 25 |
SharpenEdgeMasking | 0 |
SharpenRadius | +1.0 |
Sharpness (2) | 25 |
Sharpness | Normal |
ShutterSpeed | 1/50 |
ShutterSpeedValue | 1/50 |
Software | Adobe Photoshop CS4 Macintosh |
SplitToningBalance | 0 |
SplitToningHighlightHue | 0 |
SplitToningHighlightSaturation | 0 |
SplitToningShadowHue | 0 |
SplitToningShadowSaturation | 0 |
SubjectDistanceRange | Unknown |
Tint | -7 |
ToneCurve | 0, 0, 32, 22, 64, 56, 128, 128, 192, 196, 255, 255 |
ToneCurveName | Medium Contrast |
URL_List | |
Version | 5.3 |
VignetteAmount | 0 |
WhiteBalance (2) | Custom |
WhiteBalance | Auto |