Felt | Verdi |
AlreadyApplied | True |
Aperture | 2.8 |
ApertureValue | 2.8 |
Artist | Tor Atle H. Kleven |
BitsPerSample | 8 |
BlueHue | 0 |
BlueSaturation | 0 |
Brightness | +13 |
By-line | Tor Atle H. Kleven |
CameraProfile | Adobe Standard |
ChromaticAberrationB | 0 |
ChromaticAberrationR | 0 |
CircleOfConfusion | 0.019 mm |
Clarity | +50 |
ColorComponents | 3 |
ColorNoiseReduction | 25 |
ColorTemperature | 50000 |
Contrast | +53 |
ConvertToGrayscale | False |
Copyright | Tor Atle H. Kleven |
CopyrightFlag | True |
CopyrightNotice | Tor Atle H. Kleven |
CreateDate (1) | 2009:10:01 22:00:28+02:00 |
CreateDate | 2009:10:01 22:00:28 |
Creator | Tor Atle H. Kleven |
CreatorTool | Adobe Photoshop Lightroom |
CropAngle | 0 |
CropBottom | 1 |
CropHeight | 533 |
CropLeft | 0.27827 |
CropRight | 0.950836 |
CropTop | 0.327433 |
CropUnit | pixels |
CropWidth | 800 |
CustomRendered | Normal |
DateTimeDigitized | 2009:10:01 22:00:28+02:00 |
DateTimeOriginal (1) | 2009:10:01 22:00:28+02:00 |
DateTimeOriginal | 2009:10:01 22:00:28 |
Defringe | 0 |
ExifImageHeight | 533 |
ExifImageWidth | 800 |
Exposure | +0.95 |
ExposureCompensation | +1 |
ExposureMode | Auto |
ExposureProgram | Aperture-priority AE |
ExposureTime | 0.5 |
FillLight | 0 |
Firmware | 1.0.6 |
Flash | On, Fired |
FlashCompensation | 0 |
FlashFired | True |
FlashFunction | False |
FlashMode | On |
FlashRedEyeMode | False |
FlashReturn | No return detection |
FNumber | 2.8 |
FocalLength | 100.0 mm |
FocalLength35efl | 100.0 mm (35 mm equivalent: 160.1 mm) |
FOV | 12.8 deg |
GreenHue | 0 |
GreenSaturation | 0 |
HasCrop | True |
HasSettings | True |
HierarchicalSubject | Bildetype|Makro, Fotorelatert|Akam, Oktoberfest |
HighlightRecovery | 21 |
HueAdjustmentAqua | 0 |
HueAdjustmentBlue | 0 |
HueAdjustmentGreen | 0 |
HueAdjustmentMagenta | 0 |
HueAdjustmentOrange | 0 |
HueAdjustmentPurple | 0 |
HueAdjustmentRed | 0 |
HueAdjustmentYellow | 0 |
HyperfocalDistance | 190.36 m |
ImageHeight | 533 |
ImageNumber | 80 |
ImageSize | 800x533 |
ImageWidth | 800 |
ISO | 100 |
Keywords | Akam, Bildetype, Fotorelatert, Makro, Oktoberfest |
Lens | EF100mm f/2.8 Macro USM |
LensInfo | 100mm f/? |
LightValue | 4.0 |
LuminanceAdjustmentAqua | 0 |
LuminanceAdjustmentBlue | 0 |
LuminanceAdjustmentGreen | 0 |
LuminanceAdjustmentMagenta | 0 |
LuminanceAdjustmentOrange | -50 |
LuminanceAdjustmentPurple | 0 |
LuminanceAdjustmentRed | -50 |
LuminanceAdjustmentYellow | 0 |
LuminanceSmoothing | 0 |
Make | Canon |
Marked | True |
MaxApertureValue | 2.8 |
Megapixels | 0.426 |
MeteringMode | Multi-segment |
Model | Canon EOS 30D |
ModifyDate (1) | 2009:10:01 22:34:52+02:00 |
ModifyDate | 2009:10:01 22:34:52 |
OwnerName | unknown |
ParametricDarks | 0 |
ParametricHighlights | +49 |
ParametricHighlightSplit | 75 |
ParametricLights | 0 |
ParametricMidtoneSplit | 50 |
ParametricShadows | -34 |
ParametricShadowSplit | 25 |
PostCropVignetteAmount | 0 |
ProfileDescription | sRGB IEC61966-2.1 |
RedHue | 0 |
RedSaturation | 0 |
Rights | Tor Atle H. Kleven |
Saturation | +5 |
SaturationAdjustmentAqua | 0 |
SaturationAdjustmentBlue | 0 |
SaturationAdjustmentGreen | 0 |
SaturationAdjustmentMagenta | 0 |
SaturationAdjustmentOrange | 0 |
SaturationAdjustmentPurple | 0 |
SaturationAdjustmentRed | 0 |
SaturationAdjustmentYellow | 0 |
ScaleFactor35efl | 1.6 |
SceneCaptureType | Standard |
SerialNumber | 1730907394 |
Shadows | 5 |
ShadowTint | 0 |
SharpenDetail | 50 |
SharpenEdgeMasking | 90 |
SharpenRadius | +1.0 |
Sharpness | 85 |
ShutterSpeed | 0.5 |
ShutterSpeedValue | 0.5 |
SplitToningBalance | 0 |
SplitToningHighlightHue | 68 |
SplitToningHighlightSaturation | 100 |
SplitToningShadowHue | 45 |
SplitToningShadowSaturation | 0 |
Subject | Akam, Bildetype, Fotorelatert, Makro, Oktoberfest |
Tint | +50 |
ToneCurve | 0, 0, 255, 255 |
ToneCurveName | Linear |
Version | 5.5 |
Vibrance | 0 |
VignetteAmount | -65 |
VignetteMidpoint | 27 |
WhiteBalance (2) | Custom |
WhiteBalance | Auto |