Felt | Verdi |
AlreadyApplied | True |
Aperture | 10.0 |
ApertureValue | 10.0 |
BitsPerSample | 8 |
BlueHue | 0 |
BlueSaturation | 0 |
Brightness | +50 |
CameraProfile | ACR 4.4 |
ChromaticAberrationB | 0 |
ChromaticAberrationR | 0 |
Clarity | 0 |
ColorComponents | 1 |
ColorMode | RGB |
ColorNoiseReduction | 25 |
ColorSpace | Uncalibrated |
ColorTemperature | 5350 |
Contrast | +25 |
ConvertToGrayscale | True |
CreateDate | 2009:06:19 19:05:26Z |
CreatorTool | Firmware v4.910 |
DateTimeOriginal (1) | 2009:06:19 19:05:26Z |
DateTimeOriginal | 2009:06:19 19:05:26 |
Defringe | 0 |
ExifImageHeight | 993 |
ExifImageWidth | 1000 |
Exposure | +0.65 |
ExposureCompensation | 0 |
ExposureMode | Manual |
ExposureTime | 1/250 |
FillLight | 0 |
Flags | --- |
FNumber | 10.0 |
FocalLength | 0.0 mm |
FocalLength35efl | 0.0 mm |
Format | image/jpeg |
GrayMixerAqua | +76 |
GrayMixerBlue | +73 |
GrayMixerGreen | +4 |
GrayMixerMagenta | +24 |
GrayMixerOrange | -98 |
GrayMixerPurple | +60 |
GrayMixerRed | -100 |
GrayMixerYellow | -53 |
GreenHue | 0 |
GreenSaturation | 0 |
HasCrop | False |
HasSettings | True |
HighlightRecovery | 42 |
ICCProfileName | Adobe RGB (1998) |
ImageHeight | 993 |
ImageSize | 1000x993 |
ImageWidth | 1000 |
ISO | 100 |
LightValue | 14.6 |
LuminanceSmoothing | 0 |
Make | Leaf |
Megapixels | 0.993 |
Model | AFi 75S |
ModifyDate (1) | 2009:06:20 20:05:24+02:00 |
ModifyDate | 2009:06:20 20:05:24 |
Orientation | Horizontal (normal) |
ParametricDarks | 0 |
ParametricHighlights | 0 |
ParametricHighlightSplit | 75 |
ParametricLights | 0 |
ParametricMidtoneSplit | 50 |
ParametricShadows | 0 |
ParametricShadowSplit | 25 |
PostCropVignetteAmount | 0 |
ProfileDescription | Adobe RGB (1998) |
Rating | 0 |
RawFileName | katinka 20.mos |
RedHue | 0 |
RedSaturation | 0 |
Shadows | 0 |
ShadowTint | 0 |
SharpenDetail | 25 |
SharpenEdgeMasking | 0 |
SharpenRadius | +1.0 |
Sharpness | 25 |
ShutterSpeed | 1/250 |
ShutterSpeedValue | 1/250 |
SidecarForExtension | MOS |
Software | Adobe Photoshop CS4 Macintosh |
SplitToningBalance | 0 |
SplitToningHighlightHue | 0 |
SplitToningHighlightSaturation | 0 |
SplitToningShadowHue | 0 |
SplitToningShadowSaturation | 0 |
Tint | +48 |
ToneCurve | 0, 0, 32, 22, 64, 56, 128, 128, 192, 196, 255, 255 |
ToneCurveName | Medium Contrast |
URL_List | |
Version | 5.0 |
VignetteAmount | 0 |
WhiteBalance | As Shot |