Felt | Verdi |
AlreadyApplied | True |
Aperture | 9.0 |
ApertureValue | 9.0 |
Artist | unknown |
BitsPerSample | 8 |
BlueHue | 0 |
BlueSaturation | 0 |
Brightness | +57 |
By-line | Tor Håkon Haugen |
CameraProfile | ACR 4.4 |
Caption-Abstract | A colorful autumn at Svanarvatnet, Vindafjord, Norway |
ChromaticAberrationB | 0 |
ChromaticAberrationR | 0 |
CircleOfConfusion | 0.019 mm |
Clarity | 0 |
ColorComponents | 3 |
ColorNoiseReduction | 25 |
ColorTemperature | 5400 |
Contrast | +62 |
ConvertToGrayscale | False |
Copyright | Copyright - Tor Hakon Haugen |
CopyrightFlag | True |
CopyrightNotice | Copyright - Tor Håkon Haugen |
CreateDate (1) | 2008:10:14 13:36:24+02:00 |
CreateDate | 2008:10:14 13:36:24 |
Creator | Tor Håkon Haugen |
CreatorAddress | Asparsletta 52 |
CreatorCountry | Førresfjorden |
CreatorPostalCode | 5563 |
CreatorTool | Adobe Photoshop Lightroom |
CreatorWorkEmail | tor.hakon.haugen@gmail.com |
CropAngle | 0 |
CropBottom | 0.963677 |
CropHeight | 1413 |
CropLeft | 0.297432 |
CropRight | 0.910741 |
CropTop | 0.350368 |
CropUnit | pixels |
CropWidth | 2120 |
CustomRendered | Normal |
DateTimeDigitized | 2008:10:14 13:36:24+02:00 |
DateTimeOriginal (1) | 2008:10:14 13:36:24+02:00 |
DateTimeOriginal | 2008:10:14 13:36:24 |
Defringe | 0 |
Description | A colorful autumn at Svanarvatnet, Vindafjord, Norway |
ExifImageHeight | 1413 |
ExifImageWidth | 2120 |
Exposure | 0.00 |
ExposureCompensation | 0 |
ExposureMode | Manual |
ExposureProgram | Manual |
ExposureTime | 1/80 |
FillLight | 0 |
Firmware | 1.0.3 |
Flash | Off, Did not fire |
FlashCompensation | -0.666666666666667 |
FlashFired | False |
FlashFunction | False |
FlashMode | Off |
FlashRedEyeMode | False |
FlashReturn | No return detection |
FNumber | 9.0 |
FocalLength | 40.0 mm |
FocalLength35efl | 40.0 mm (35 mm equivalent: 64.9 mm) |
FOV | 31.0 deg |
GreenHue | 0 |
GreenSaturation | 0 |
HasCrop | True |
HasSettings | True |
HighlightRecovery | 16 |
HueAdjustmentAqua | 0 |
HueAdjustmentBlue | 0 |
HueAdjustmentGreen | 0 |
HueAdjustmentMagenta | 0 |
HueAdjustmentOrange | 0 |
HueAdjustmentPurple | 0 |
HueAdjustmentRed | 0 |
HueAdjustmentYellow | 0 |
HyperfocalDistance | 9.60 m |
ImageDescription | A colorful autumn at Svanarvatnet, Vindafjord, Norway |
ImageHeight | 1413 |
ImageNumber | 107 |
ImageSize | 2120x1413 |
ImageWidth | 2120 |
ISO | 100 |
Keywords | Landscape, Nature, Svanarvatnet, Vindafjord, Water, autumn |
Lens | 17.0-40.0 mm |
LensInfo | 17-40mm f/? |
LightValue | 12.7 |
LuminanceAdjustmentAqua | 0 |
LuminanceAdjustmentBlue | 0 |
LuminanceAdjustmentGreen | 0 |
LuminanceAdjustmentMagenta | 0 |
LuminanceAdjustmentOrange | 0 |
LuminanceAdjustmentPurple | 0 |
LuminanceAdjustmentRed | 0 |
LuminanceAdjustmentYellow | 0 |
LuminanceSmoothing | 0 |
Make | Canon |
Marked | True |
MaxApertureValue | 4.0 |
Megapixels | 3.0 |
MeteringMode | Multi-segment |
Model | Canon EOS 350D DIGITAL |
ModifyDate (1) | 2009:06:01 15:44:46+02:00 |
ModifyDate | 2009:06:01 15:44:46 |
ObjectName | Svanarvatnet |
OwnerName | unknown |
ParametricDarks | -6 |
ParametricHighlights | 0 |
ParametricHighlightSplit | 75 |
ParametricLights | +12 |
ParametricMidtoneSplit | 50 |
ParametricShadows | 0 |
ParametricShadowSplit | 25 |
PostCropVignetteAmount | 0 |
ProfileDescription | sRGB IEC61966-2.1 |
RedHue | 0 |
RedSaturation | 0 |
Rights | Copyright - Tor Håkon Haugen |
Saturation | +21 |
SaturationAdjustmentAqua | 0 |
SaturationAdjustmentBlue | 0 |
SaturationAdjustmentGreen | 0 |
SaturationAdjustmentMagenta | 0 |
SaturationAdjustmentOrange | 0 |
SaturationAdjustmentPurple | 0 |
SaturationAdjustmentRed | 0 |
SaturationAdjustmentYellow | 0 |
ScaleFactor35efl | 1.6 |
SceneCaptureType | Standard |
SerialNumber | 1830703648 |
Shadows | 20 |
ShadowTint | 0 |
SharpenDetail | 25 |
SharpenEdgeMasking | 0 |
SharpenRadius | +1.0 |
Sharpness | 25 |
ShutterSpeed | 1/80 |
ShutterSpeedValue | 1/80 |
SplitToningBalance | 0 |
SplitToningHighlightHue | 0 |
SplitToningHighlightSaturation | 0 |
SplitToningShadowHue | 0 |
SplitToningShadowSaturation | 0 |
Subject | Landscape, Nature, Svanarvatnet, Vindafjord, Water, autumn |
Tint | +3 |
Title | Svanarvatnet |
ToneCurve | 0, 0, 32, 22, 64, 56, 128, 128, 192, 196, 255, 255 |
ToneCurveName | Medium Contrast |
Version | 5.2 |
Vibrance | 0 |
VignetteAmount | 0 |
WhiteBalance (2) | As Shot |
WhiteBalance | Auto |