Felt | Verdi |
AlreadyApplied | True |
Aperture | 16.0 |
ApertureValue | 16.0 |
Artist | Hinrich Bäsemann |
BitsPerSample (1) | 16, 16, 16 |
BitsPerSample (2) | 16 16 16 |
BitsPerSample | 8 |
BlueHue | 0 |
BlueSaturation | 0 |
Brightness | +42 |
By-line | Hinrich Bäsemann |
CameraProfile | ACR 3.3 |
CaptionWriter | Hinrich Bäsemann |
ChromaticAberrationB | 0 |
ChromaticAberrationR | 0 |
CircleOfConfusion | 0.030 mm |
City | Tromsø |
Clarity | 24 |
ColorComponents | 3 |
ColorMode | RGB |
ColorNoiseReduction | 25 |
ColorSpace | sRGB |
ColorTemperature | 6272 |
Contrast | +59 |
ConvertToGrayscale | False |
CopyrightFlag | False |
Country | Norwegen |
Country-PrimaryLocationName | Norwegen |
CreateDate (1) | 2008:09:10 13:42:10+02:00 |
CreateDate | 2008:09:10 09:55:02 |
Creator | Hinrich Bäsemann |
CreatorTool | Adobe Photoshop CS3 Windows |
CustomRendered | Normal |
DateCreated | 2008:09:10 |
DateTimeDigitized | 2008:09:10 09:55:02+02:00 |
DateTimeOriginal (1) | 2008:09:10 09:55:02+02:00 |
DateTimeOriginal | 2008:09:10 09:55:02 |
Defringe | 0 |
ExifImageHeight | 623 |
ExifImageWidth | 1000 |
Exposure | +0.58 |
ExposureCompensation | -2/3 |
ExposureMode | Auto |
ExposureProgram | Aperture-priority AE |
ExposureTime | 1/160 |
FillLight | 0 |
Firmware | 1.1.0 |
Flash | Off, Did not fire |
FlashCompensation | 0 |
FlashFired | False |
FlashFunction | False |
FlashMode | Off |
FlashRedEyeMode | False |
FlashReturn | No return detection |
FNumber | 16.0 |
FocalLength | 22.0 mm |
FocalLength35efl | 22.0 mm (35 mm equivalent: 22.0 mm) |
Format | image/jpeg |
FOV | 78.5 deg |
GreenHue | 0 |
GreenSaturation | 0 |
HasCrop | False |
HasSettings | True |
Headline | Nebelbogen mit Paddlern |
HighlightRecovery | 0 |
HueAdjustmentAqua | 0 |
HueAdjustmentBlue | 0 |
HueAdjustmentGreen | 0 |
HueAdjustmentMagenta | 0 |
HueAdjustmentOrange | 0 |
HueAdjustmentPurple | 0 |
HueAdjustmentRed | 0 |
HueAdjustmentYellow | 0 |
HyperfocalDistance | 1.01 m |
ICCProfileName | sRGB IEC61966-2.1 |
ImageHeight (1) | 2620 |
ImageHeight (2) | 2912 |
ImageHeight | 623 |
ImageNumber | 9 |
ImageSize | 1000x623 |
ImageWidth (1) | 4203 |
ImageWidth (2) | 4368 |
ImageWidth | 1000 |
ISO | 125 |
Keywords | Norwegen, Norway, Tromsø, Sandnessundet, Wetter, weather, Nebel, fog, blauer Himmel, blue sky, Nelelbogen, fog bow, Paddelboot, Kajak |
Lens | EF16-35mm f/2.8L USM |
LensInfo | 16-35mm f/? |
LightValue | 15.0 |
LuminanceAdjustmentAqua | 0 |
LuminanceAdjustmentBlue | 0 |
LuminanceAdjustmentGreen | 0 |
LuminanceAdjustmentMagenta | 0 |
LuminanceAdjustmentOrange | 0 |
LuminanceAdjustmentPurple | 0 |
LuminanceAdjustmentRed | 0 |
LuminanceAdjustmentYellow | 0 |
LuminanceSmoothing | 0 |
Make | Canon |
MaxApertureValue | 2.8 |
Megapixels | 0.623 |
MeteringMode | Multi-segment |
Model | Canon EOS 5D |
ModifyDate (1) | 2008:09:10 13:45:51+02:00 |
ModifyDate | 2008:09:10 13:45:51 |
ObjectName | Nebelbogen mit Paddlern |
Orientation | Horizontal (normal) |
ParametricDarks | -11 |
ParametricHighlights | 0 |
ParametricHighlightSplit | 75 |
ParametricLights | +36 |
ParametricMidtoneSplit | 50 |
ParametricShadows | +69 |
ParametricShadowSplit | 25 |
PhotometricInterpretation | RGB |
PlanarConfiguration | Chunky |
ProfileDescription | sRGB IEC61966-2.1 |
Province-State | Troms |
RedHue | 0 |
RedSaturation | 0 |
SamplesPerPixel | 3 |
Saturation | +28 |
SaturationAdjustmentAqua | 0 |
SaturationAdjustmentBlue | 0 |
SaturationAdjustmentGreen | 0 |
SaturationAdjustmentMagenta | 0 |
SaturationAdjustmentOrange | 0 |
SaturationAdjustmentPurple | 0 |
SaturationAdjustmentRed | +19 |
SaturationAdjustmentYellow | 0 |
ScaleFactor35efl | 1.0 |
SceneCaptureType | Standard |
SerialNumber | 1230804490 |
Shadows | 3 |
ShadowTint | 0 |
SharpenDetail | 25 |
SharpenEdgeMasking | 0 |
SharpenRadius | +0.7 |
Sharpness | 64 |
ShutterSpeed | 1/160 |
ShutterSpeedValue | 1/160 |
Software | Adobe Photoshop CS3 Windows |
Source | basemann@online.no |
SplitToningBalance | 0 |
SplitToningHighlightHue | 0 |
SplitToningHighlightSaturation | 0 |
SplitToningShadowHue | 0 |
SplitToningShadowSaturation | 0 |
State | Troms |
Subject | Norwegen, Norway, Tromsø, Sandnessundet, Wetter, weather, Nebel, fog, blauer Himmel, blue sky, Nelelbogen, fog bow, Paddelboot, Kajak |
Tint | +11 |
Title | Nebelbogen mit Paddlern |
ToneCurve | 0, 0, 32, 22, 64, 56, 128, 128, 192, 196, 255, 255 |
ToneCurveName | Medium Contrast |
URL_List | |
Version | 1.0 |
Vibrance | +26 |
VignetteAmount | 0 |
WhiteBalance (2) | Custom |
WhiteBalance | Auto |
Writer-Editor | Hinrich Bäsemann |