Felt | Verdi |
AlreadyApplied | True |
Aperture | 5.0 |
ApertureValue | 5.0 |
BitsPerSample | 8 |
BlueHue | 0 |
BlueSaturation | +5 |
Brightness | +50 |
CameraProfile | ACR 4.4 |
CFAPattern | [Red,Green][Green,Blue] |
ChromaticAberrationB | 0 |
ChromaticAberrationR | 0 |
CircleOfConfusion | 0.020 mm |
Clarity | +29 |
ColorComponents | 3 |
ColorNoiseReduction | 100 |
ColorTemperature | 4619 |
Contrast (2) | +50 |
Contrast | Normal |
ConvertToGrayscale | False |
CreateDate (1) | 2008:03:08 12:41:24.94+01:00 |
CreateDate | 2008:03:08 12:41:24 |
CreatorTool | Adobe Photoshop Lightroom |
CropAngle | -1.60591 |
CropBottom | 0.959497 |
CropHeight | 502 |
CropLeft | 0.018891 |
CropRight | 0.988682 |
CropTop | 0.040183 |
CropUnit | pixels |
CropWidth | 750 |
CustomRendered | Normal |
DateTimeDigitized | 2008:03:08 12:41:24.94+01:00 |
DateTimeOriginal (1) | 2008:03:08 12:41:24.94+01:00 |
DateTimeOriginal | 2008:03:08 12:41:24 |
Defringe | 0 |
DigitalZoomRatio | 1 |
ExifImageHeight | 750 |
ExifImageWidth | 502 |
Exposure | 0.00 |
ExposureCompensation | 0 |
ExposureMode | Auto |
ExposureProgram | Aperture-priority AE |
ExposureTime | 1/2500 |
FillLight | 14 |
Flash | No Flash |
FlashFired | False |
FlashFunction | False |
FlashMode | Unknown |
FlashRedEyeMode | False |
FlashReturn | No return detection |
FNumber | 5.0 |
FocalLength | 70.0 mm |
FocalLength35efl | 70.0 mm (35 mm equivalent: 105.0 mm) |
FocalLengthIn35mmFormat | 105 mm |
FOV | 19.5 deg |
GainControl | None |
GradientBasedCorrActive | true |
GradientBasedCorrAmount | 1.000000 |
GradientBasedCorrBrightness | -0.175000 |
GradientBasedCorrClarity | 0.275000 |
GradientBasedCorrContrast | 0.575000 |
GradientBasedCorrExposure | 0.025000 |
GradientBasedCorrHue | 339.000000 |
GradientBasedCorrMaskFullX | 0.955238 |
GradientBasedCorrMaskFullY | 0.455419 |
GradientBasedCorrMaskValue | 1.000000 |
GradientBasedCorrMaskWhat | Mask/Gradient |
GradientBasedCorrMaskZeroX | 0.033396 |
GradientBasedCorrMaskZeroY | 0.496142 |
GradientBasedCorrSaturation | 0.000000 |
GradientBasedCorrSharpness | 0.150000 |
GradientBasedCorrWhat | Correction |
GreenHue | 0 |
GreenSaturation | 0 |
HasCrop | True |
HasSettings | True |
HighlightRecovery | 13 |
HueAdjustmentAqua | 0 |
HueAdjustmentBlue | 0 |
HueAdjustmentGreen | 0 |
HueAdjustmentMagenta | 0 |
HueAdjustmentOrange | 0 |
HueAdjustmentPurple | 0 |
HueAdjustmentRed | 0 |
HueAdjustmentYellow | 0 |
HyperfocalDistance | 48.92 m |
ImageHeight | 750 |
ImageNumber | 436 |
ImageSize | 502x750 |
ImageWidth | 502 |
ISO | 200 |
Keywords | Paris |
Lens | 24.0-70.0 mm f/2.8 |
LensInfo | 24-70mm f/2.8 |
LightSource | Unknown |
LightValue | 14.9 |
LuminanceAdjustmentAqua | +100 |
LuminanceAdjustmentBlue | +7 |
LuminanceAdjustmentGreen | -100 |
LuminanceAdjustmentMagenta | -100 |
LuminanceAdjustmentOrange | -100 |
LuminanceAdjustmentPurple | -100 |
LuminanceAdjustmentRed | -100 |
LuminanceAdjustmentYellow | -100 |
LuminanceSmoothing | 100 |
Make | NIKON CORPORATION |
MaxApertureValue | 2.8 |
Megapixels | 0.377 |
MeteringMode | Multi-segment |
Model | NIKON D300 |
ModifyDate (1) | 2008:09:09 21:29:41+02:00 |
ModifyDate | 2008:09:09 21:29:41 |
ParametricDarks | -5 |
ParametricHighlights | +38 |
ParametricHighlightSplit | 75 |
ParametricLights | +5 |
ParametricMidtoneSplit | 50 |
ParametricShadows | -38 |
ParametricShadowSplit | 25 |
PostCropVignetteAmount | 0 |
ProfileDescription | sRGB IEC61966-2.1 |
RedHue | 0 |
RedSaturation | 0 |
Saturation (2) | -7 |
Saturation | Normal |
SaturationAdjustmentAqua | -100 |
SaturationAdjustmentBlue | +26 |
SaturationAdjustmentGreen | -100 |
SaturationAdjustmentMagenta | -100 |
SaturationAdjustmentOrange | -100 |
SaturationAdjustmentPurple | -100 |
SaturationAdjustmentRed | -100 |
SaturationAdjustmentYellow | -100 |
ScaleFactor35efl | 1.5 |
SceneCaptureType | Standard |
SceneType | Directly photographed |
SensingMethod | One-chip color area |
SerialNumber | 4066426 |
Shadows | 10 |
ShadowTint | +2 |
SharpenDetail | 25 |
SharpenEdgeMasking | 0 |
SharpenRadius | +1.0 |
Sharpness (2) | 0 |
Sharpness | Normal |
ShutterSpeed | 1/2500 |
ShutterSpeedValue | 1/2500 |
Software | Ver.1.00 |
SplitToningBalance | 0 |
SplitToningHighlightHue | 0 |
SplitToningHighlightSaturation | 0 |
SplitToningShadowHue | 0 |
SplitToningShadowSaturation | 0 |
Subject | Paris |
SubjectDistanceRange | Unknown |
Tint | -8 |
ToneCurve | 0, 0, 32, 22, 64, 56, 128, 128, 192, 196, 255, 255 |
ToneCurveName | Medium Contrast |
Version | 4.5 |
Vibrance | +12 |
VignetteAmount | -57 |
VignetteMidpoint | 45 |
WhiteBalance (2) | Custom |
WhiteBalance | Auto |