Felt | Verdi |
AlreadyApplied | True |
Aperture | 5.0 |
ApertureValue | 5.0 |
Artist | unknown |
BitsPerSample | 8 |
BlueHue | 0 |
BlueSaturation | 0 |
Brightness | +100 |
By-line | unknown |
CameraProfile | ACR 2.4 |
ChromaticAberrationB | 0 |
ChromaticAberrationR | 0 |
CircleOfConfusion | 0.019 mm |
Clarity | 0 |
ColorComponents | 1 |
Contrast | +23 |
ConvertToGrayscale | True |
CreateDate | 2008:01:20 00:14:01 |
Creator | unknown |
CreatorTool | Adobe Photoshop Lightroom |
CustomRendered | Normal |
DateTimeDigitized | 2008:01:20 00:14:01+01:00 |
DateTimeOriginal (1) | 2008:01:20 00:14:01+01:00 |
DateTimeOriginal | 2008:01:20 00:14:01 |
Defringe | 0 |
ExifImageHeight | 768 |
ExifImageWidth | 513 |
Exposure | +1.24 |
ExposureCompensation | 0 |
ExposureMode | Auto |
ExposureProgram | Shutter speed priority AE |
ExposureTime | 1/60 |
FillLight | 6 |
Firmware | 1.0.4 |
Flash | Off, Did not fire |
FlashCompensation | -1.66666666666667 |
FlashFired | False |
FlashFunction | False |
FlashMode | Off |
FlashRedEyeMode | False |
FlashReturn | No return detection |
FNumber | 5.0 |
FocalLength | 41.0 mm |
FocalLength35efl | 41.0 mm (35 mm equivalent: 66.4 mm) |
FOV | 30.4 deg |
GrayMixerAqua | -14 |
GrayMixerBlue | +6 |
GrayMixerGreen | -20 |
GrayMixerMagenta | 0 |
GrayMixerOrange | -15 |
GrayMixerPurple | +10 |
GrayMixerRed | -9 |
GrayMixerYellow | -17 |
GreenHue | 0 |
GreenSaturation | 0 |
HasCrop | False |
HasSettings | True |
HighlightRecovery | 10 |
HyperfocalDistance | 18.11 m |
ImageHeight (1) | 1300 |
ImageHeight | 768 |
ImageNumber | 16 |
ImageSize | 513x768 |
ImageWidth (1) | 868 |
ImageWidth | 513 |
IncrementalTemperature | +23 |
IncrementalTint | +25 |
ISO | 800 |
Lens | EF-S18-55mm f/3.5-5.6 |
LensInfo | 18-55mm f/? |
LightValue | 7.6 |
LuminanceSmoothing | 0 |
Make | Canon |
MaxApertureValue | 4.5 |
Megapixels | 0.394 |
MeteringMode | Multi-segment |
Model | Canon EOS 400D DIGITAL |
ModifyDate (1) | 2008:01:20 18:48:59+01:00 |
ModifyDate | 2008:01:20 19:10:06 |
Orientation | Horizontal (normal) |
OwnerName | unknown |
ParametricDarks | 0 |
ParametricHighlights | 0 |
ParametricHighlightSplit | 75 |
ParametricLights | 0 |
ParametricMidtoneSplit | 50 |
ParametricShadows | 0 |
ParametricShadowSplit | 25 |
ProfileDescription | ProPhoto RGB |
RedHue | 0 |
RedSaturation | 0 |
ScaleFactor35efl | 1.6 |
SceneCaptureType | Standard |
SerialNumber | 430192792 |
Shadows | 8 |
ShadowTint | 0 |
SharpenDetail | 25 |
SharpenEdgeMasking | 0 |
SharpenRadius | +1.0 |
Sharpness | 25 |
ShutterSpeed | 1/60 |
ShutterSpeedValue | 1/60 |
Software | ACD Systems Digital Imaging |
SplitToningBalance | 0 |
SplitToningHighlightHue | 0 |
SplitToningHighlightSaturation | 0 |
SplitToningShadowHue | 0 |
SplitToningShadowSaturation | 0 |
ToneCurve | 0, 0, 255, 255 |
ToneCurveName | Linear |
Version | 1.0 |
VignetteAmount | 0 |
WhiteBalance | Auto |