Felt | Verdi |
AlreadyApplied | True |
Aperture | 22.0 |
ApertureValue | 22.0 |
Artist | unknown |
BitsPerSample | 8 |
BlueHue | 0 |
BlueSaturation | 0 |
Brightness | +45 |
By-line | unknown |
CameraProfile | ACR 3.4 |
ChromaticAberrationB | 0 |
ChromaticAberrationR | 0 |
CircleOfConfusion | 0.019 mm |
ColorComponents | 3 |
ColorMode | RGB |
ColorNoiseReduction | 25 |
ColorSpace (1) | Unknown (-1) |
ColorSpace | Uncalibrated |
ColorTemperature | 4100 |
Contrast | +50 |
ConvertToGrayscale | False |
CopyrightFlag | False |
CreateDate (1) | 2007:03:05 00:45:44+01:00 |
CreateDate | 2007:03:04 16:04:18 |
Creator | unknown |
CreatorTool | Adobe Photoshop CS3 (10.0x20061208 [20061208.beta.1251 2006/12/08:02:00:00 cutoff; m branch]) Macintosh |
CustomRendered | Normal |
DateTimeDigitized | 2007:03:04 16:04:18+01:00 |
DateTimeOriginal (1) | 2007:03:04 16:04:18+01:00 |
DateTimeOriginal | 2007:03:04 16:04:18 |
DerivedFrom | |
ExifImageHeight | 511 |
ExifImageWidth | 750 |
Exposure | 0.00 |
ExposureCompensation | 0 |
ExposureMode | Manual |
ExposureProgram | Manual |
ExposureTime | 1/80 |
FillLight | 0 |
Firmware | 1.0.4 |
Flash | On, Fired |
FlashCompensation | 0 |
FlashFired | True |
FlashFunction | False |
FlashMode | On |
FlashRedEyeMode | False |
FlashReturn | No return detection |
FNumber | 22.0 |
FocalLength | 23.0 mm |
FocalLength35efl | 23.0 mm (35 mm equivalent: 36.8 mm) |
Format | image/jpeg |
FOV | 52.1 deg |
GreenHue | 0 |
GreenSaturation | 0 |
HasCrop | False |
HasSettings | True |
HighlightRecovery | 0 |
HueAdjustmentAqua | 0 |
HueAdjustmentBlue | 0 |
HueAdjustmentGreen | 0 |
HueAdjustmentMagenta | 0 |
HueAdjustmentOrange | 0 |
HueAdjustmentPurple | 0 |
HueAdjustmentRed | -50 |
HueAdjustmentYellow | 0 |
HyperfocalDistance | 1.28 m |
ICCProfileName | Adobe RGB (1998) |
ImageHeight | 511 |
ImageNumber | 240 |
ImageSize | 750x511 |
ImageWidth | 750 |
ISO | 160 |
Lens | EF16-35mm f/2.8L USM |
LensInfo | 16-35mm f/? |
LightValue | 14.6 |
LuminanceAdjustmentAqua | 0 |
LuminanceAdjustmentBlue | 0 |
LuminanceAdjustmentGreen | 0 |
LuminanceAdjustmentMagenta | 0 |
LuminanceAdjustmentOrange | 0 |
LuminanceAdjustmentPurple | 0 |
LuminanceAdjustmentRed | -50 |
LuminanceAdjustmentYellow | 0 |
LuminanceSmoothing | 0 |
Make | Canon |
MaxApertureValue | 2.8 |
Megapixels | 0.383 |
MeteringMode | Multi-segment |
Model | Canon EOS 30D |
ModifyDate (1) | 2007:03:05 12:24:10+01:00 |
ModifyDate | 2007:03:05 12:24:10 |
Orientation | Horizontal (normal) |
OwnerName | unknown |
ParametricDarks | 0 |
ParametricHighlights | 0 |
ParametricHighlightSplit | 75 |
ParametricLights | 0 |
ParametricMidtoneSplit | 50 |
ParametricShadows | -25 |
ParametricShadowSplit | 25 |
ProfileDescription | Adobe RGB (1998) |
Rating | 0 |
RawFileName | _MG_7871.CR2 |
RedHue | 0 |
RedSaturation | +25 |
Saturation | 0 |
SaturationAdjustmentAqua | 0 |
SaturationAdjustmentBlue | 0 |
SaturationAdjustmentGreen | 0 |
SaturationAdjustmentMagenta | 0 |
SaturationAdjustmentOrange | 0 |
SaturationAdjustmentPurple | 0 |
SaturationAdjustmentRed | -25 |
SaturationAdjustmentYellow | 0 |
ScaleFactor35efl | 1.6 |
SceneCaptureType | Standard |
SerialNumber | 730512837 |
Shadows | 5 |
ShadowTint | 0 |
Sharpness | 0 |
ShutterSpeed | 1/80 |
ShutterSpeedValue | 1/80 |
SidecarForExtension | CR2 |
Software | Adobe Photoshop CS3 (10.0x20061208 [20061208.beta.1251 2006/12/08:02:00:00 cutoff; m branch]) Macintosh |
SplitToningBalance | 0 |
SplitToningHighlightHue | 0 |
SplitToningHighlightSaturation | 0 |
SplitToningShadowHue | 247 |
SplitToningShadowSaturation | 5 |
Tint | 0 |
ToneCurve | 0, 0, 32, 16, 64, 50, 128, 128, 192, 202, 255, 255 |
ToneCurveName | Strong Contrast |
URL_List | |
Version | 4.0x168 |
Vibrance | 0 |
VignetteAmount | -100 |
VignetteMidpoint | 75 |
WhiteBalance | Auto |