Felt | Verdi |
AlreadyApplied | True |
Aperture | 9.0 |
ApertureValue | 9.0 |
Artist | Kjell_Martin_Nordby |
AutoLateralCA | 0 |
AutoWhiteVersion | 134348800 |
BitsPerSample | 8 |
Blacks2012 | +17 |
BlueHue | 0 |
BlueSaturation | 0 |
By-line | Kjell_Martin_Nordby |
CameraProfile (1) | Camera Muted |
CameraProfile | Adobe Standard |
CFAPattern | [Red,Green][Green,Blue] |
CircleOfConfusion | 0.015 mm |
Clarity2012 | +47 |
ColorComponents | 3 |
ColorNoiseReduction | 25 |
ColorNoiseReductionDetail | 50 |
ColorNoiseReductionSmoothness | 50 |
ColorTemperature | 6400 |
ColorTransform | YCbCr |
Contrast | Low |
Contrast2012 | +100 |
ConvertToGrayscale | False |
Copyright | Kjell_Martin_Nordby |
CopyrightNotice | Kjell_Martin_Nordby |
CreateDate (1) | 2021:09:11 10:47:41+01:00 |
CreateDate | 2021:09:11 10:47:41 |
Creator | Kjell_Martin_Nordby |
CreatorTool | Adobe Photoshop Lightroom 6.0 (Macintosh) |
CropAngle | 0 |
CropBottom | 0.768635 |
CropConstrainToWarp | 0 |
CropLeft | 0 |
CropRight | 1 |
CropTop | 0 |
CustomRendered | Normal |
DateCreated (1) | 2021:09:11 10:47:41+01:00 |
DateCreated | 2021:09:11 |
DateTimeOriginal | 2021:09:11 10:47:41 |
DefringeGreenAmount | 0 |
DefringeGreenHueHi | 60 |
DefringeGreenHueLo | 40 |
DefringePurpleAmount | 0 |
DefringePurpleHueHi | 70 |
DefringePurpleHueLo | 30 |
DigitalZoomRatio | 1 |
Exposure2012 | -0.85 |
ExposureCompensation | +0.7 |
ExposureMode | Manual |
ExposureProgram | Aperture-priority AE |
ExposureTime | 1/60 |
Flash | On, Did not fire |
FlashCompensation | 0 |
FNumber | 9.0 |
FocalLength | 28.0 mm |
FocalLength35efl | 28.0 mm (35 mm equivalent: 56.0 mm) |
FocalLengthIn35mmFormat | 56 mm |
Format | image/jpeg |
FOV | 35.6 deg |
GainControl | None |
GrainAmount | 0 |
GreenHue | 0 |
GreenSaturation | 0 |
HasCrop | True |
HasSettings | True |
Highlights2012 | -94 |
HueAdjustmentAqua | 0 |
HueAdjustmentBlue | 0 |
HueAdjustmentGreen | 0 |
HueAdjustmentMagenta | 0 |
HueAdjustmentOrange | 0 |
HueAdjustmentPurple | 0 |
HueAdjustmentRed | 0 |
HueAdjustmentYellow | 0 |
HyperfocalDistance | 5.80 m |
ImageHeight | 1107 |
ImageSize | 1920x1107 |
ImageWidth | 1920 |
ISO | 200 |
Lens | OLYMPUS M.12-40mm F2.8 |
LensInfo | 12-40mm f/2.8 |
LensManualDistortionAmount | 0 |
LensModel | OLYMPUS M.12-40mm F2.8 |
LensProfileEnable | 0 |
LensProfileSetup | LensDefaults |
LensSerialNumber | AC5298301 |
LightSource | Unknown |
LightValue | 11.2 |
LookName | |
LuminanceAdjustmentAqua | 0 |
LuminanceAdjustmentBlue | 0 |
LuminanceAdjustmentGreen | 0 |
LuminanceAdjustmentMagenta | 0 |
LuminanceAdjustmentOrange | 0 |
LuminanceAdjustmentPurple | 0 |
LuminanceAdjustmentRed | 0 |
LuminanceAdjustmentYellow | 0 |
LuminanceSmoothing | 0 |
Make | OLYMPUS CORPORATION |
MaxApertureValue | 2.8 |
Megapixels | 2.1 |
MeteringMode | Multi-segment |
Model | E-M1MarkIII |
ModifyDate (1) | 2021:10:16 13:58:42+02:00 |
ModifyDate | 2021:10:16 13:58:42 |
Orientation | Horizontal (normal) |
ParametricDarks | 0 |
ParametricHighlights | 0 |
ParametricHighlightSplit | 75 |
ParametricLights | 0 |
ParametricMidtoneSplit | 50 |
ParametricShadows | 0 |
ParametricShadowSplit | 25 |
PerspectiveAspect | 0 |
PerspectiveHorizontal | 0 |
PerspectiveRotate | 0.0 |
PerspectiveScale | 100 |
PerspectiveUpright | 0 |
PerspectiveVertical | 0 |
PostCropVignetteAmount | 0 |
ProcessVersion | 6.7 |
ProfileDescription | sRGB IEC61966-2.1 |
RawFileName | 20210911-_KMN0362.jpg |
RedHue | 0 |
RedSaturation | 0 |
Rights | Kjell_Martin_Nordby |
Saturation (1) | +6 |
Saturation | Low |
SaturationAdjustmentAqua | 0 |
SaturationAdjustmentBlue | 0 |
SaturationAdjustmentGreen | -40 |
SaturationAdjustmentMagenta | 0 |
SaturationAdjustmentOrange | -10 |
SaturationAdjustmentPurple | 0 |
SaturationAdjustmentRed | +14 |
SaturationAdjustmentYellow | +40 |
ScaleFactor35efl | 2.0 |
SceneCaptureType | Standard |
SensitivityType | Standard Output Sensitivity |
SerialNumber | BJDA27860 |
Shadows2012 | -51 |
ShadowTint | 0 |
SharpenDetail | 25 |
SharpenEdgeMasking | 0 |
SharpenRadius | +1.0 |
Sharpness (1) | 64 |
Sharpness | Soft |
ShutterSpeed | 1/60 |
ShutterSpeedValue | 1/60 |
Software | Adobe Photoshop Lightroom 6.0 (Macintosh) |
SplitToningBalance | 0 |
SplitToningHighlightHue | 0 |
SplitToningHighlightSaturation | 0 |
SplitToningShadowHue | 0 |
SplitToningShadowSaturation | 0 |
Tint | +3 |
ToneCurve | 0, 0, 255, 255 |
ToneCurveBlue | 0, 0, 255, 255 |
ToneCurveGreen | 0, 0, 255, 255 |
ToneCurveName | Linear |
ToneCurveName2012 | Linear |
ToneCurvePV2012 | 0, 0, 255, 255 |
ToneCurvePV2012Blue | 0, 0, 255, 255 |
ToneCurvePV2012Green | 0, 0, 255, 255 |
ToneCurvePV2012Red | 0, 0, 255, 255 |
ToneCurveRed | 0, 0, 255, 255 |
Version | 9.0 |
Vibrance | +2 |
VignetteAmount | 0 |
WhiteBalance (1) | As Shot |
WhiteBalance | Auto |
Whites2012 | 0 |