Felt | Verdi |
AlreadyApplied | True |
Aperture | 2.2 |
ApertureValue | 2.2 |
Artist | Kristinn Gudlaugsson |
AutoLateralCA | 0 |
BitsPerSample | 8 |
Blacks2012 | -32 |
BlueHue | 0 |
BlueSaturation | 0 |
By-line | Kristinn Gudlaugsson |
CameraProfile | Adobe Standard |
CircleOfConfusion | 0.020 mm |
Clarity2012 | 0 |
ColorComponents | 3 |
ColorGradeBlending | 50 |
ColorGradeGlobalHue | 0 |
ColorGradeGlobalLum | 0 |
ColorGradeGlobalSat | 0 |
ColorGradeHighlightLum | 0 |
ColorGradeMidtoneHue | 0 |
ColorGradeMidtoneLum | 0 |
ColorGradeMidtoneSat | 0 |
ColorGradeShadowLum | 0 |
ColorNoiseReduction | 25 |
ColorNoiseReductionDetail | 50 |
ColorNoiseReductionSmoothness | 50 |
ColorSpace | sRGB |
ColorTemperature | 10750 |
ColorTransform | YCbCr |
Contrast | High |
Contrast2012 | +7 |
Copyright | Kristinn Gudlaugsson |
CopyrightFlag | True |
CopyrightNotice | Kristinn Gudlaugsson |
CreateDate | 2020:12:27 15:26:03 |
Creator | Kristinn Gudlaugsson |
CreatorAddress | Bakke Søndre 20 |
CreatorCountry | Norway |
CreatorPostalCode | 2040 |
CreatorTool | Adobe Photoshop Lightroom Classic 10.0 (Macintosh) |
CreatorWorkEmail | kristinn@hotmail.no |
CreatorWorkURL | StinniFoto.no |
CropAngle | 0 |
CropBottom | 1 |
CropConstrainToWarp | 0 |
CropLeft | 0.086166 |
CropRight | 1 |
CropTop | 0.0084 |
CustomRendered | Normal |
DateCreated (1) | 2020:12:27 |
DateCreated | 2020:12:27 15:26:03 |
DateTimeOriginal | 2020:12:27 15:26:03 |
DefringeGreenAmount | 0 |
DefringeGreenHueHi | 60 |
DefringeGreenHueLo | 40 |
DefringePurpleAmount | 0 |
DefringePurpleHueHi | 70 |
DefringePurpleHueLo | 30 |
Dehaze | 0 |
Exposure2012 | +0.78 |
ExposureCompensation | 0 |
ExposureMode | Auto |
ExposureProgram | Shutter speed priority AE |
ExposureTime | 1/250 |
Flash | Off, Did not fire |
FNumber | 2.2 |
FocalLength | 50.0 mm |
FocalLength35efl | 50.0 mm (35 mm equivalent: 75.0 mm) |
FocalLengthIn35mmFormat | 75 mm |
Format | image/jpeg |
FOV | 27.0 deg |
GrainAmount | 0 |
GreenHue | 0 |
GreenSaturation | 0 |
HasCrop | True |
HasExtendedXMP | F45E2873C967B58E98DAA6409D98E3A3 |
HasSettings | True |
HierarchicalSubject | #Gudlaugsson, #KristinnGudlaugsson, #Norway|#Kløfta, #kristinn, #pentax, #stinnifoto |
Highlights2012 | -57 |
HueAdjustmentAqua | 0 |
HueAdjustmentBlue | 0 |
HueAdjustmentGreen | 0 |
HueAdjustmentMagenta | 0 |
HueAdjustmentOrange | 0 |
HueAdjustmentPurple | 0 |
HueAdjustmentRed | 0 |
HueAdjustmentYellow | 0 |
HyperfocalDistance | 56.73 m |
ImageHeight | 3236 |
ImageSize | 4503x3236 |
ImageWidth | 4503 |
ISO | 800 |
Keywords | #Gudlaugsson, #Kløfta, #Kristinn, #KristinnGudlaugsson, #Norway, #Pentax, #StinniFoto", #kristinn, #pentax, #stinnifoto |
LensID (1) | 8 4 |
LensID | Sigma 50mm F1.4 EX DG HSM |
LensManualDistortionAmount | 0 |
LensProfileEnable | 0 |
LightValue | 7.2 |
LookAmount | 1.000000 |
LookGroup | Profiles |
LookName | Adobe Color |
LookParametersCameraProfile | Adobe Standard |
LookParametersConvertToGrayscale | False |
LookParametersLookTable | E1095149FDB39D7A057BAB208837E2E1 |
LookParametersProcessVersion | 11.0 |
LookParametersToneCurvePV2012 | 0, 0, 22, 16, 40, 35, 127, 127, 224, 230, 240, 246, 255, 255 |
LookParametersToneCurvePV2012Blue | 0, 0, 255, 255 |
LookParametersToneCurvePV2012Green | 0, 0, 255, 255 |
LookParametersToneCurvePV2012Red | 0, 0, 255, 255 |
LookParametersVersion | 13.0 |
LookSupportsAmount | false |
LookSupportsMonochrome | false |
LookSupportsOutputReferred | false |
LuminanceAdjustmentAqua | 0 |
LuminanceAdjustmentBlue | 0 |
LuminanceAdjustmentGreen | 0 |
LuminanceAdjustmentMagenta | 0 |
LuminanceAdjustmentOrange | 0 |
LuminanceAdjustmentPurple | 0 |
LuminanceAdjustmentRed | 0 |
LuminanceAdjustmentYellow | 0 |
LuminanceSmoothing | 0 |
Make | PENTAX |
Marked | True |
Megapixels | 14.6 |
MeteringMode | Multi-segment |
Model | PENTAX K-5 |
ModifyDate (1) | 2020:12:28 11:50:08+01:00 |
ModifyDate | 2020:12:28 11:50:08 |
OverrideLookVignette | False |
PaintCorrectionActive | true |
PaintCorrectionAmount | 1.000000 |
PaintCorrectionBrightness | 0.000000 |
PaintCorrectionClarity2012 | 0.000000 |
PaintCorrectionContrast2012 | 0.000000 |
PaintCorrectionCorrectionRangeMaskColorAmount | 0.500000 |
PaintCorrectionCorrectionRangeMaskDepthFeather | 0.500000 |
PaintCorrectionCorrectionRangeMaskDepthMax | 1.000000 |
PaintCorrectionCorrectionRangeMaskDepthMin | 0.000000 |
PaintCorrectionCorrectionRangeMaskLumFeather | 0.500000 |
PaintCorrectionCorrectionRangeMaskLumMax | 1.000000 |
PaintCorrectionCorrectionRangeMaskLumMin | 0.000000 |
PaintCorrectionCorrectionRangeMaskType | 0 |
PaintCorrectionCorrectionRangeMaskVersion | +2 |
PaintCorrectionDefringe | 0.000000 |
PaintCorrectionExposure2012 (2) | -0.002000 |
PaintCorrectionExposure2012 | 0.000000 |
PaintCorrectionHighlights2012 (2) | 0.093335 |
PaintCorrectionHighlights2012 | 0.000000 |
PaintCorrectionHue (1) | 240.000000 |
PaintCorrectionHue | 233.000000 |
PaintCorrectionLocalBlacks2012 (1) | 0.027665 |
PaintCorrectionLocalBlacks2012 (2) | 0.000000 |
PaintCorrectionLocalBlacks2012 | -0.894965 |
PaintCorrectionLocalDehaze | 0.000000 |
PaintCorrectionLocalHue | 0.000000 |
PaintCorrectionLocalTexture | 0.000000 |
PaintCorrectionLocalWhites2012 (1) | 0.027816 |
PaintCorrectionLocalWhites2012 | 0.000000 |
PaintCorrectionLuminanceNoise | 0.000000 |
PaintCorrectionMaskCenterWeight | 0.235284 |
PaintCorrectionMaskFlow | 0.862039 |
PaintCorrectionMaskRadius (10) | 0.018463 |
PaintCorrectionMaskRadius (2) | 0.058678 |
PaintCorrectionMaskRadius (5) | 0.033744 |
PaintCorrectionMaskRadius (7) | 0.041788 |
PaintCorrectionMaskRadius | 0.016872 |
PaintCorrectionMaskValue | 1.000000 |
PaintCorrectionMaskWhat | Mask/Paint |
PaintCorrectionMoire | 0.000000 |
PaintCorrectionSaturation | 0.000000 |
PaintCorrectionShadows2012 (1) | -0.311066 |
PaintCorrectionShadows2012 | 0.000000 |
PaintCorrectionSharpness (1) | 0.496188 |
PaintCorrectionSharpness (2) | 0.369905 |
PaintCorrectionSharpness | 0.450313 |
PaintCorrectionTemperature | 0.000000 |
PaintCorrectionTint | 0.000000 |
PaintCorrectionWhat | Correction |
ParametricDarks | 0 |
ParametricHighlights | 0 |
ParametricHighlightSplit | 75 |
ParametricLights | 0 |
ParametricMidtoneSplit | 50 |
ParametricShadows | 0 |
ParametricShadowSplit | 25 |
PerspectiveAspect | 0 |
PerspectiveHorizontal | 0 |
PerspectiveRotate | 0.0 |
PerspectiveScale | 100 |
PerspectiveUpright | 0 |
PerspectiveVertical | 0 |
PerspectiveX | 0.00 |
PerspectiveY | 0.00 |
PostCropVignetteAmount | 0 |
PreservedFileName | _K5_6616.DNG |
ProcessVersion | 11.0 |
ProfileDescription | sRGB IEC61966-2.1 |
RawFileName | |
RedHue | 0 |
RedSaturation | 0 |
Rights | Kristinn Gudlaugsson |
Saturation (1) | +1 |
Saturation | Normal |
SaturationAdjustmentAqua | 0 |
SaturationAdjustmentBlue | 0 |
SaturationAdjustmentGreen | 0 |
SaturationAdjustmentMagenta | 0 |
SaturationAdjustmentOrange | 0 |
SaturationAdjustmentPurple | 0 |
SaturationAdjustmentRed | 0 |
SaturationAdjustmentYellow | 0 |
ScaleFactor35efl | 1.5 |
SceneCaptureType | Standard |
SensingMethod | One-chip color area |
Shadows2012 | +60 |
ShadowTint | 0 |
SharpenDetail | 25 |
SharpenEdgeMasking | 0 |
SharpenRadius | +1.0 |
Sharpness (1) | 40 |
Sharpness | Hard |
ShutterSpeed | 1/250 |
ShutterSpeedValue | 1/250 |
Software | Adobe Photoshop Lightroom Classic 10.0 (Macintosh) |
SplitToningBalance | 0 |
SplitToningHighlightHue | 0 |
SplitToningHighlightSaturation | 0 |
SplitToningShadowHue | 0 |
SplitToningShadowSaturation | 0 |
Subject | #Gudlaugsson, #Kløfta, #Kristinn, #KristinnGudlaugsson, #Norway, #Pentax, #StinniFoto", #kristinn, #pentax, #stinnifoto |
SubjectDistanceRange | Distant |
Texture | 0 |
Tint | +1 |
ToneCurveName2012 | Linear |
ToneCurvePV2012 | 0, 0, 255, 255 |
ToneCurvePV2012Blue | 0, 0, 255, 255 |
ToneCurvePV2012Green | 0, 0, 255, 255 |
ToneCurvePV2012Red | 0, 0, 255, 255 |
Version | 13.0 |
Vibrance | +8 |
VignetteAmount | 0 |
WhiteBalance (1) | Custom |
WhiteBalance | Auto |
Whites2012 | +45 |