Felt | Verdi |
AlreadyApplied | True |
Aperture | 5.6 |
ApertureValue | 5.6 |
Artist | ARILD THINGVOLL |
AutoLateralCA | 1 |
BitsPerSample | 8 |
Blacks2012 | +23 |
BlueHue | 0 |
BlueSaturation | 0 |
BrightnessValue | 3.8 |
By-line | ARILD THINGVOLL |
CameraProfile | Adobe Standard |
CircGradBasedCorrActive | true |
CircGradBasedCorrAmount | 1.000000 |
CircGradBasedCorrBrightness | 0.000000 |
CircGradBasedCorrClarity2012 | 0.000000 |
CircGradBasedCorrContrast2012 | 0.000000 |
CircGradBasedCorrCorrectionRangeMaskDepthMin | 0.000000 |
CircGradBasedCorrCorrectionRangeMaskLumMax | 1.000000 |
CircGradBasedCorrCorrectionRangeMaskLumMin | 0.000000 |
CircGradBasedCorrCorrectionRangeMaskType | 0 |
CircGradBasedCorrCorrectionRangeMaskVersion | +2 |
CircGradBasedCorrDefringe | 0.000000 |
CircGradBasedCorrExposure2012 (1) | 0.326000 |
CircGradBasedCorrExposure2012 (12) | 0.000000 |
CircGradBasedCorrExposure2012 (15) | 0.130500 |
CircGradBasedCorrExposure2012 (2) | 0.174000 |
CircGradBasedCorrExposure2012 (21) | 0.108750 |
CircGradBasedCorrExposure2012 (26) | 0.260750 |
CircGradBasedCorrExposure2012 (4) | 0.239250 |
CircGradBasedCorrExposure2012 (5) | 0.195750 |
CircGradBasedCorrExposure2012 (8) | 0.434750 |
CircGradBasedCorrExposure2012 | 0.065250 |
CircGradBasedCorrHighlights2012 | 0.000000 |
CircGradBasedCorrHue | 101.000000 |
CircGradBasedCorrLocalBlacks2012 | 0.000000 |
CircGradBasedCorrLocalDehaze | 0.000000 |
CircGradBasedCorrLocalTexture | 0.173910 |
CircGradBasedCorrLocalWhites2012 | 0.000000 |
CircGradBasedCorrLuminanceNoise | 0.000000 |
CircGradBasedCorrMaskAngle (21) | -10.474900 |
CircGradBasedCorrMaskAngle (3) | -0.700430 |
CircGradBasedCorrMaskAngle | 0.000000 |
CircGradBasedCorrMaskBottom (1) | 0.648795 |
CircGradBasedCorrMaskBottom (10) | 0.525295 |
CircGradBasedCorrMaskBottom (11) | 0.506688 |
CircGradBasedCorrMaskBottom (12) | 0.535109 |
CircGradBasedCorrMaskBottom (13) | 0.510211 |
CircGradBasedCorrMaskBottom (14) | 0.476696 |
CircGradBasedCorrMaskBottom (15) | 0.466035 |
CircGradBasedCorrMaskBottom (16) | 0.465705 |
CircGradBasedCorrMaskBottom (17) | 0.491219 |
CircGradBasedCorrMaskBottom (19) | 0.156377 |
CircGradBasedCorrMaskBottom (2) | 0.638281 |
CircGradBasedCorrMaskBottom (20) | 0.111992 |
CircGradBasedCorrMaskBottom (21) | 0.186524 |
CircGradBasedCorrMaskBottom (22) | 0.212823 |
CircGradBasedCorrMaskBottom (23) | 0.257393 |
CircGradBasedCorrMaskBottom (24) | 0.277017 |
CircGradBasedCorrMaskBottom (25) | 0.468396 |
CircGradBasedCorrMaskBottom (26) | 0.442659 |
CircGradBasedCorrMaskBottom (27) | 0.515515 |
CircGradBasedCorrMaskBottom (28) | 0.490792 |
CircGradBasedCorrMaskBottom (3) | 0.526845 |
CircGradBasedCorrMaskBottom (4) | 0.395188 |
CircGradBasedCorrMaskBottom (5) | 0.448843 |
CircGradBasedCorrMaskBottom (6) | 0.479251 |
CircGradBasedCorrMaskBottom (7) | 0.556703 |
CircGradBasedCorrMaskBottom (8) | 0.505879 |
CircGradBasedCorrMaskBottom (9) | 0.499612 |
CircGradBasedCorrMaskBottom | 0.476117 |
CircGradBasedCorrMaskFeather | +100 |
CircGradBasedCorrMaskFlipped | true |
CircGradBasedCorrMaskLeft (1) | 0.800212 |
CircGradBasedCorrMaskLeft (10) | 0.235674 |
CircGradBasedCorrMaskLeft (11) | 0.358962 |
CircGradBasedCorrMaskLeft (12) | -0.071628 |
CircGradBasedCorrMaskLeft (13) | 0.784734 |
CircGradBasedCorrMaskLeft (14) | 0.148000 |
CircGradBasedCorrMaskLeft (15) | 0.326156 |
CircGradBasedCorrMaskLeft (16) | 0.251037 |
CircGradBasedCorrMaskLeft (17) | -0.007776 |
CircGradBasedCorrMaskLeft (18) | 0.766912 |
CircGradBasedCorrMaskLeft (2) | 0.458431 |
CircGradBasedCorrMaskLeft (20) | 0.890293 |
CircGradBasedCorrMaskLeft (21) | 0.695819 |
CircGradBasedCorrMaskLeft (22) | 0.615601 |
CircGradBasedCorrMaskLeft (23) | 0.534333 |
CircGradBasedCorrMaskLeft (24) | 0.494719 |
CircGradBasedCorrMaskLeft (25) | 0.897204 |
CircGradBasedCorrMaskLeft (26) | 0.913569 |
CircGradBasedCorrMaskLeft (27) | 0.828299 |
CircGradBasedCorrMaskLeft (28) | 0.647408 |
CircGradBasedCorrMaskLeft (3) | -0.012319 |
CircGradBasedCorrMaskLeft (4) | 0.725224 |
CircGradBasedCorrMaskLeft (5) | 0.458159 |
CircGradBasedCorrMaskLeft (6) | 0.335792 |
CircGradBasedCorrMaskLeft (7) | 0.797758 |
CircGradBasedCorrMaskLeft (8) | -0.024095 |
CircGradBasedCorrMaskLeft (9) | 0.109358 |
CircGradBasedCorrMaskLeft | 0.427233 |
CircGradBasedCorrMaskMidpoint | +50 |
CircGradBasedCorrMaskRight (1) | 0.985924 |
CircGradBasedCorrMaskRight (10) | 0.445742 |
CircGradBasedCorrMaskRight (11) | 0.517275 |
CircGradBasedCorrMaskRight (12) | 0.370840 |
CircGradBasedCorrMaskRight (13) | 1.002920 |
CircGradBasedCorrMaskRight (14) | 0.248468 |
CircGradBasedCorrMaskRight (15) | 0.417490 |
CircGradBasedCorrMaskRight (16) | 0.342370 |
CircGradBasedCorrMaskRight (17) | 0.083557 |
CircGradBasedCorrMaskRight (18) | 0.886953 |
CircGradBasedCorrMaskRight (2) | 0.819488 |
CircGradBasedCorrMaskRight (20) | 1.010330 |
CircGradBasedCorrMaskRight (21) | 0.815861 |
CircGradBasedCorrMaskRight (22) | 0.735643 |
CircGradBasedCorrMaskRight (23) | 0.654374 |
CircGradBasedCorrMaskRight (24) | 0.614760 |
CircGradBasedCorrMaskRight (25) | 1.017240 |
CircGradBasedCorrMaskRight (26) | 1.043760 |
CircGradBasedCorrMaskRight (27) | 0.946019 |
CircGradBasedCorrMaskRight (28) | 0.969110 |
CircGradBasedCorrMaskRight (3) | 0.417038 |
CircGradBasedCorrMaskRight (4) | 1.046930 |
CircGradBasedCorrMaskRight (5) | 0.779862 |
CircGradBasedCorrMaskRight (6) | 0.531654 |
CircGradBasedCorrMaskRight (7) | 1.007830 |
CircGradBasedCorrMaskRight (8) | 0.185973 |
CircGradBasedCorrMaskRight (9) | 0.319426 |
CircGradBasedCorrMaskRight | 0.748936 |
CircGradBasedCorrMaskRoundness | 0 |
CircGradBasedCorrMaskTop (1) | 0.498035 |
CircGradBasedCorrMaskTop (10) | 0.444585 |
CircGradBasedCorrMaskTop (11) | 0.468618 |
CircGradBasedCorrMaskTop (12) | 0.248815 |
CircGradBasedCorrMaskTop (13) | 0.379248 |
CircGradBasedCorrMaskTop (14) | 0.389895 |
CircGradBasedCorrMaskTop (15) | 0.333550 |
CircGradBasedCorrMaskTop (16) | 0.362155 |
CircGradBasedCorrMaskTop (17) | 0.387669 |
CircGradBasedCorrMaskTop (19) | 0.137015 |
CircGradBasedCorrMaskTop (2) | 0.419507 |
CircGradBasedCorrMaskTop (20) | 0.092630 |
CircGradBasedCorrMaskTop (21) | 0.167162 |
CircGradBasedCorrMaskTop (22) | 0.193461 |
CircGradBasedCorrMaskTop (23) | 0.238031 |
CircGradBasedCorrMaskTop (24) | 0.257655 |
CircGradBasedCorrMaskTop (25) | 0.449034 |
CircGradBasedCorrMaskTop (26) | 0.340939 |
CircGradBasedCorrMaskTop (27) | 0.448511 |
CircGradBasedCorrMaskTop (28) | 0.218204 |
CircGradBasedCorrMaskTop (3) | 0.271248 |
CircGradBasedCorrMaskTop (4) | 0.122599 |
CircGradBasedCorrMaskTop (5) | 0.255443 |
CircGradBasedCorrMaskTop (6) | 0.320875 |
CircGradBasedCorrMaskTop (7) | 0.504927 |
CircGradBasedCorrMaskTop (8) | 0.454103 |
CircGradBasedCorrMaskTop (9) | 0.447836 |
CircGradBasedCorrMaskTop | 0.203529 |
CircGradBasedCorrMaskValue | 1.000000 |
CircGradBasedCorrMaskVersion | +2 |
CircGradBasedCorrMaskWhat | Mask/CircularGradient |
CircGradBasedCorrMoire | 0.000000 |
CircGradBasedCorrSaturation | 0.000000 |
CircGradBasedCorrShadows2012 | 0.000000 |
CircGradBasedCorrSharpness | 0.000000 |
CircGradBasedCorrTemperature (12) | 0.500000 |
CircGradBasedCorrTemperature (14) | 0.086960 |
CircGradBasedCorrTemperature | 0.000000 |
CircGradBasedCorrTint (14) | 0.086960 |
CircGradBasedCorrTint | 0.000000 |
CircGradBasedCorrWhat | Correction |
CircleOfConfusion | 0.020 mm |
Clarity2012 | +12 |
ColorComponents | 3 |
ColorNoiseReduction | 25 |
ColorNoiseReductionDetail | 50 |
ColorNoiseReductionSmoothness | 50 |
ColorSpace | sRGB |
ColorTemperature | 5450 |
ColorTransform | YCbCr |
Contrast2012 | +7 |
ConvertToGrayscale | False |
CreateDate | 2019:07:15 21:08:00 |
Creator | ARILD THINGVOLL |
CropAngle | 0 |
CropBottom | 0.85774 |
CropConstrainToWarp | 0 |
CropLeft | 0 |
CropRight | 1 |
CropTop | 0.016736 |
CustomRendered | Normal |
DateCreated (1) | 2019:07:15 |
DateCreated | 2019:07:15 21:08:00 |
DateTimeOriginal | 2019:07:15 21:08:00 |
DefringeGreenAmount | 0 |
DefringeGreenHueHi | 60 |
DefringeGreenHueLo | 40 |
DefringePurpleAmount | 0 |
DefringePurpleHueHi | 70 |
DefringePurpleHueLo | 30 |
Dehaze | 0 |
Exposure2012 | -1.07 |
ExposureCompensation | -3 |
ExposureMode | Auto |
ExposureProgram | Aperture-priority AE |
ExposureTime | 1/340 |
Flash | No Flash |
FNumber | 5.6 |
FocalLength | 16.0 mm |
FocalLength35efl | 16.0 mm (35 mm equivalent: 24.0 mm) |
FocalLengthIn35mmFormat | 24 mm |
Format | image/jpeg |
FOV | 73.7 deg |
GrainAmount | 0 |
GreenHue | 0 |
GreenSaturation | 0 |
HasCrop | True |
HasSettings | True |
Highlights2012 | -100 |
HueAdjustmentAqua | 0 |
HueAdjustmentBlue | 0 |
HueAdjustmentGreen | 0 |
HueAdjustmentMagenta | 0 |
HueAdjustmentOrange | 0 |
HueAdjustmentPurple | 0 |
HueAdjustmentRed | 0 |
HueAdjustmentYellow | 0 |
HyperfocalDistance | 2.28 m |
ImageHeight | 673 |
ImageSize | 1200x673 |
ImageWidth | 1200 |
ISO | 400 |
Keywords | 0719 |
Lens | XF16mmF1.4 R WR |
LensInfo | 16mm f/1.4 |
LensMake | FUJIFILM |
LensManualDistortionAmount | 0 |
LensModel | XF16mmF1.4 R WR |
LensProfileEnable | 0 |
LensProfileSetup | LensDefaults |
LensSerialNumber | 76A00436 |
LightSource | Unknown |
LightValue | 11.4 |
LookAmount | 1.000000 |
LookGroup | Profiles |
LookName | Adobe Color |
LookParametersCameraProfile | Adobe Standard |
LookParametersConvertToGrayscale | False |
LookParametersLookTable | E1095149FDB39D7A057BAB208837E2E1 |
LookParametersProcessVersion | 11.0 |
LookParametersToneCurvePV2012 | 0, 0, 22, 16, 40, 35, 127, 127, 224, 230, 240, 246, 255, 255 |
LookParametersToneCurvePV2012Blue | 0, 0, 255, 255 |
LookParametersToneCurvePV2012Green | 0, 0, 255, 255 |
LookParametersToneCurvePV2012Red | 0, 0, 255, 255 |
LookParametersVersion | 11.3 |
LookSupportsAmount | false |
LookSupportsMonochrome | false |
LookSupportsOutputReferred | false |
LuminanceAdjustmentAqua | 0 |
LuminanceAdjustmentBlue | 0 |
LuminanceAdjustmentGreen | 0 |
LuminanceAdjustmentMagenta | 0 |
LuminanceAdjustmentOrange | 0 |
LuminanceAdjustmentPurple | 0 |
LuminanceAdjustmentRed | 0 |
LuminanceAdjustmentYellow | 0 |
LuminanceSmoothing | 0 |
Make | FUJIFILM |
MaxApertureValue | 1.4 |
Megapixels | 0.808 |
MeteringMode | Multi-segment |
Model | X-H1 |
ModifyDate (1) | 2019:08:16 21:36:59+02:00 |
ModifyDate | 2019:08:16 21:36:59 |
OverrideLookVignette | False |
PaintCorrectionActive | true |
PaintCorrectionAmount | 1.000000 |
PaintCorrectionBrightness | 0.000000 |
PaintCorrectionClarity2012 | 0.000000 |
PaintCorrectionContrast2012 (1) | 0.173910 |
PaintCorrectionContrast2012 | 0.000000 |
PaintCorrectionCorrectionRangeMaskDepthMax | 1.000000 |
PaintCorrectionCorrectionRangeMaskDepthMin | 0.000000 |
PaintCorrectionCorrectionRangeMaskLumFeather | 0.500000 |
PaintCorrectionCorrectionRangeMaskLumMax | 1.000000 |
PaintCorrectionCorrectionRangeMaskLumMin | 0.000000 |
PaintCorrectionCorrectionRangeMaskType | 0 |
PaintCorrectionCorrectionRangeMaskVersion | +2 |
PaintCorrectionDefringe | 0.000000 |
PaintCorrectionExposure2012 | 0.000000 |
PaintCorrectionHighlights2012 | 0.000000 |
PaintCorrectionHue | 101.000000 |
PaintCorrectionLocalBlacks2012 | 0.000000 |
PaintCorrectionLocalDehaze (1) | 0.000000 |
PaintCorrectionLocalDehaze | -0.108700 |
PaintCorrectionLocalTexture (1) | 0.000000 |
PaintCorrectionLocalTexture | 0.173910 |
PaintCorrectionLocalWhites2012 | 0.000000 |
PaintCorrectionLuminanceNoise | 0.000000 |
PaintCorrectionMaskCenterWeight | 0.049246 |
PaintCorrectionMaskFlow | 1.000000 |
PaintCorrectionMaskRadius (1) | 0.153363 |
PaintCorrectionMaskRadius (2) | 0.045452 |
PaintCorrectionMaskRadius (3) | 0.069978 |
PaintCorrectionMaskRadius | 0.063665 |
PaintCorrectionMaskValue | 1.000000 |
PaintCorrectionMaskWhat | Mask/Paint |
PaintCorrectionMoire | 0.000000 |
PaintCorrectionSaturation | 0.000000 |
PaintCorrectionShadows2012 (1) | 0.000000 |
PaintCorrectionShadows2012 | 0.260870 |
PaintCorrectionSharpness | 0.000000 |
PaintCorrectionTemperature | 0.000000 |
PaintCorrectionTint | 0.000000 |
PaintCorrectionWhat | Correction |
ParametricDarks | 0 |
ParametricHighlights | 0 |
ParametricHighlightSplit | 75 |
ParametricLights | 0 |
ParametricMidtoneSplit | 50 |
ParametricShadows | +38 |
ParametricShadowSplit | 25 |
PerspectiveAspect | 0 |
PerspectiveHorizontal | 0 |
PerspectiveRotate | 0.0 |
PerspectiveScale | 100 |
PerspectiveUpright | 1 |
PerspectiveVertical | 0 |
PerspectiveX | 0.00 |
PerspectiveY | 0.00 |
PostCropVignetteAmount | 0 |
PreservedFileName | XH103930.RAF |
ProcessVersion | 11.0 |
ProfileDescription | sRGB IEC61966-2.1 |
RawFileName | A. Thingvoll_2019_00268-157.RAF |
RedHue | 0 |
RedSaturation | 0 |
Saturation | 0 |
SaturationAdjustmentAqua | 0 |
SaturationAdjustmentBlue | 0 |
SaturationAdjustmentGreen | 0 |
SaturationAdjustmentMagenta | 0 |
SaturationAdjustmentOrange | 0 |
SaturationAdjustmentPurple | 0 |
SaturationAdjustmentRed | 0 |
SaturationAdjustmentYellow | 0 |
ScaleFactor35efl | 1.5 |
SceneCaptureType | Standard |
SceneType | Directly photographed |
SensingMethod | One-chip color area |
SensitivityType | Standard Output Sensitivity |
SerialNumber | 81A55422 |
Shadows2012 | +100 |
ShadowTint | 0 |
SharpenDetail | 35 |
SharpenEdgeMasking | 83 |
SharpenRadius | +1.1 |
Sharpness (1) | 80 |
Sharpness | Normal |
ShutterSpeed | 1/340 |
ShutterSpeedValue | 1/340 |
SplitToningBalance | 0 |
SplitToningHighlightHue | 0 |
SplitToningHighlightSaturation | 0 |
SplitToningShadowHue | 0 |
SplitToningShadowSaturation | 0 |
Subject | 0719 |
SubjectDistanceRange | Unknown |
Texture | 0 |
Tint | +17 |
ToneCurve | 0, 0, 255, 255 |
ToneCurveBlue | 0, 0, 255, 255 |
ToneCurveGreen | 0, 0, 255, 255 |
ToneCurveName | Linear |
ToneCurveName2012 | Linear |
ToneCurvePV2012 | 0, 0, 255, 255 |
ToneCurvePV2012Blue | 0, 0, 255, 255 |
ToneCurvePV2012Green | 0, 0, 255, 255 |
ToneCurvePV2012Red | 0, 0, 255, 255 |
ToneCurveRed | 0, 0, 255, 255 |
ToneMapStrength | 0 |
Version | 11.3 |
Vibrance | +10 |
VignetteAmount | 0 |
VignetteCorrectionAlreadyApplied | True |
WhiteBalance (1) | Custom |
WhiteBalance | Auto |
Whites2012 | +65 |