Felt | Verdi |
Aperture | 8.0 |
ApertureValue | 8.0 |
AutoLateralCA | 0 |
BitsPerSample | 8 |
BlueHue | 0 |
BlueSaturation | 0 |
By-line | Aksel Hunstad |
CFAPattern | [Red,Green][Green,Blue] |
CFAPatternColumns | 2 |
CFAPatternValues | 0, 1, 1, 2 |
CircleOfConfusion | 0.020 mm |
Clarity2012 | 0 |
ColorComponents | 3 |
ColorNoiseReduction | 25 |
ColorNoiseReductionDetail | 50 |
ColorNoiseReductionSmoothness | 50 |
ColorSpace (1) | Uncalibrated |
Contrast2012 | -8 |
Copyright | Aksel Hunstad |
CopyrightNotice | Aksel Hunstad |
CreateDate (1) | 2019:06:16 13:49:54+02:00 |
CustomRendered (1) | Normal |
DateCreated (1) | 2019:06:16 |
DateTimeOriginal | 2019:06:16 13:49:54 |
DefringeGreenHueLo | 40 |
DefringePurpleAmount | 0 |
DefringePurpleHueHi | 70 |
Dehaze | 0 |
DOF | inf (561.63 m - inf) |
ExifImageHeight | 2420 |
ExifImageWidth (1) | 3415 |
ExposureMode | Auto |
ExposureProgram | Shutter speed priority AE |
ExposureTime | 1/250 |
Flash | Off, Did not fire |
FlashFired | False |
FlashFunction | False |
FlashMode | Off |
FNumber | 8.0 |
FocalLength (1) | 300.0 mm |
FocalLength35efl | 300.0 mm (35 mm equivalent: 450.0 mm) |
Format | application/vnd.adobe.photoshop |
GainControl (1) | None |
HasCrop | False |
Highlights2012 | -38 |
HueAdjustmentAqua | 0 |
HueAdjustmentGreen | 0 |
HueAdjustmentMagenta | 0 |
HueAdjustmentOrange | 0 |
HueAdjustmentPurple | 0 |
HyperfocalDistance | 561.63 m |
ImageNumber | 6527 |
ISO | 100 |
Lens | 70.0-300.0 mm f/4.0-5.6 |
LensID | Sigma 70-300mm F4-5.6 APO Macro Super II or AF Zoom-Nikkor 70-300mm f/4-5.6D ED |
LensInfo | 70-300mm f/4-5.6 |
LensProfileEnable | 0 |
LensProfileSetup | LensDefaults |
LightSource | Unknown |
LuminanceAdjustmentBlue | 0 |
LuminanceAdjustmentMagenta | 0 |
LuminanceAdjustmentOrange | 0 |
LuminanceAdjustmentPurple | 0 |
LuminanceAdjustmentRed | 0 |
LuminanceAdjustmentYellow | 0 |
LuminanceSmoothing | 0 |
Make | NIKON CORPORATION |
MaxApertureValue (1) | 5.7 |
Megapixels | 8.3 |
Model | NIKON D7500 |
ModifyDate (1) | 2019:06:16 17:05:31+02:00 |
ParametricDarks | 0 |
ParametricLights | 0 |
PerspectiveAspect | 0 |
PerspectiveHorizontal | 0 |
PerspectiveX | 0.00 |
PerspectiveY | 0.00 |
PostCropVignetteAmount | 0 |
ProfileDescription | sRGB IEC61966-2.1 |
Rating | 0 |
RecommendedExposureIndex | 100 |
Saturation | Normal |
SaturationAdjustmentBlue | 0 |
SaturationAdjustmentGreen | 0 |
SaturationAdjustmentPurple | 0 |
SaturationAdjustmentYellow | 0 |
ScaleFactor35efl | 1.5 |
SceneCaptureType (1) | Standard |
SceneType | Directly photographed |
Shadows2012 | +28 |
ShadowTint | 0 |
SharpenRadius | +1.0 |
Sharpness (1) | 25 |
Sharpness | Normal |
ShutterSpeed | 1/250 |
ShutterSpeedValue | 1/250 |
Software | Elements Organizer 16.0 |
SplitToningBalance | 0 |
SplitToningHighlightHue | 0 |
SplitToningShadowHue | 0 |
SubjectDistanceRange | Unknown |
ToneCurveBlue | 0, 0, 255, 255 |
ToneCurveGreen | 0, 0, 255, 255 |
ToneCurveName | Medium Contrast |
ToneCurvePV2012 | 0, 0, 255, 255 |
ToneCurvePV2012Blue | 0, 0, 255, 255 |
ToneCurvePV2012Red | 0, 0, 255, 255 |
URL_List | |
Version | 10.2 |
WhiteBalance (1) | Cloudy |
WhiteBalance | Auto |
Whites2012 | +47 |