Felt | Verdi |
AlreadyApplied | True |
Aperture | 11.0 |
ApertureValue | 11.0 |
AutoLateralCA | 0 |
AutoWhiteVersion | 134348800 |
BitsPerSample | 8 |
Blacks2012 | -22 |
BlueHue | 0 |
BlueSaturation | 0 |
BrightnessValue | -0.8 |
CameraProfile | Adobe Standard |
CircGradBasedCorrActive | true |
CircGradBasedCorrAmount | 1.000000 |
CircGradBasedCorrBrightness | 0.000000 |
CircGradBasedCorrClarity2012 (1) | 0.000000 |
CircGradBasedCorrClarity2012 | 0.385356 |
CircGradBasedCorrContrast2012 | 0.000000 |
CircGradBasedCorrDefringe | 0.000000 |
CircGradBasedCorrExposure2012 (1) | 0.256801 |
CircGradBasedCorrExposure2012 (2) | -0.129136 |
CircGradBasedCorrExposure2012 (3) | 0.192133 |
CircGradBasedCorrExposure2012 (5) | 0.200218 |
CircGradBasedCorrExposure2012 (6) | 0.278070 |
CircGradBasedCorrExposure2012 | 0.264898 |
CircGradBasedCorrHighlights2012 (1) | 0.314614 |
CircGradBasedCorrHighlights2012 (2) | 0.000000 |
CircGradBasedCorrHighlights2012 | 0.055596 |
CircGradBasedCorrHue (2) | 55.519501 |
CircGradBasedCorrHue | 0.000000 |
CircGradBasedCorrLocalBlacks2012 | 0.000000 |
CircGradBasedCorrLocalDehaze | 0.000000 |
CircGradBasedCorrLocalWhites2012 | 0.000000 |
CircGradBasedCorrLuminanceNoise | 0.000000 |
CircGradBasedCorrMaskAngle | 0.000000 |
CircGradBasedCorrMaskBottom (2) | 0.999121 |
CircGradBasedCorrMaskBottom (3) | 0.578236 |
CircGradBasedCorrMaskBottom (4) | 0.861674 |
CircGradBasedCorrMaskBottom (5) | 0.956306 |
CircGradBasedCorrMaskBottom (6) | 0.717614 |
CircGradBasedCorrMaskBottom (7) | 0.604659 |
CircGradBasedCorrMaskBottom (8) | 0.949826 |
CircGradBasedCorrMaskBottom | 0.860727 |
CircGradBasedCorrMaskFeather (1) | +50 |
CircGradBasedCorrMaskFeather | +100 |
CircGradBasedCorrMaskFlipped (2) | false |
CircGradBasedCorrMaskFlipped | true |
CircGradBasedCorrMaskLeft (1) | 0.168017 |
CircGradBasedCorrMaskLeft (2) | 0.159853 |
CircGradBasedCorrMaskLeft (3) | 0.826418 |
CircGradBasedCorrMaskLeft (4) | 0.192752 |
CircGradBasedCorrMaskLeft (5) | 0.328421 |
CircGradBasedCorrMaskLeft (6) | 0.837507 |
CircGradBasedCorrMaskLeft (7) | 0.728465 |
CircGradBasedCorrMaskLeft (8) | 0.673476 |
CircGradBasedCorrMaskLeft | 0.542685 |
CircGradBasedCorrMaskMidpoint | +50 |
CircGradBasedCorrMaskRight (1) | 0.831912 |
CircGradBasedCorrMaskRight (2) | 0.823748 |
CircGradBasedCorrMaskRight (3) | 0.979857 |
CircGradBasedCorrMaskRight (4) | 0.346191 |
CircGradBasedCorrMaskRight (5) | 0.532058 |
CircGradBasedCorrMaskRight (6) | 0.922760 |
CircGradBasedCorrMaskRight (7) | 0.813718 |
CircGradBasedCorrMaskRight (8) | 0.826095 |
CircGradBasedCorrMaskRight | 0.696124 |
CircGradBasedCorrMaskRoundness | 0 |
CircGradBasedCorrMaskTop (1) | 0.003689 |
CircGradBasedCorrMaskTop (3) | 0.373556 |
CircGradBasedCorrMaskTop (4) | 0.735826 |
CircGradBasedCorrMaskTop (5) | 0.830458 |
CircGradBasedCorrMaskTop (6) | 0.575918 |
CircGradBasedCorrMaskTop (7) | 0.462963 |
CircGradBasedCorrMaskTop (8) | 0.823978 |
CircGradBasedCorrMaskTop | 0.734879 |
CircGradBasedCorrMaskValue | 1.000000 |
CircGradBasedCorrMaskVersion | +2 |
CircGradBasedCorrMaskWhat | Mask/CircularGradient |
CircGradBasedCorrMoire | 0.000000 |
CircGradBasedCorrSaturation | 0.000000 |
CircGradBasedCorrShadows2012 (1) | -0.156250 |
CircGradBasedCorrShadows2012 | 0.000000 |
CircGradBasedCorrSharpness (1) | 0.586857 |
CircGradBasedCorrSharpness (2) | -0.653033 |
CircGradBasedCorrSharpness | 0.000000 |
CircGradBasedCorrTemperature | 0.000000 |
CircGradBasedCorrTint | 0.000000 |
CircGradBasedCorrWhat | Correction |
CircleOfConfusion | 0.018 mm |
Clarity2012 | +43 |
ColorComponents | 3 |
ColorNoiseReduction | 25 |
ColorNoiseReductionDetail | 50 |
ColorNoiseReductionSmoothness | 50 |
ColorSpace | sRGB |
ColorTransform | YCbCr |
Contrast2012 | +19 |
ConvertToGrayscale | True |
CreateDate | 2016:01:02 23:05:40 |
CreatorTool | Adobe Photoshop Lightroom 6.3 (Macintosh) |
CustomRendered | Normal |
DateCreated (1) | 2016:01:02 |
DateCreated | 2016:01:02 23:05:40 |
DateTimeOriginal | 2016:01:02 23:05:40 |
Dehaze | 0 |
Exposure2012 | +0.20 |
ExposureCompensation | 0 |
ExposureMode | Auto |
ExposureProgram | Aperture-priority AE |
ExposureTime | 8 |
Flash | Off, Did not fire |
FNumber | 11.0 |
FocalLength | 33.0 mm |
FocalLength35efl | 33.0 mm (35 mm equivalent: 54.3 mm) |
Format | image/jpeg |
FOV | 36.7 deg |
GradientBasedCorrActive | true |
GradientBasedCorrAmount | 1.000000 |
GradientBasedCorrBrightness | 0.000000 |
GradientBasedCorrClarity2012 | 0.000000 |
GradientBasedCorrContrast2012 | 0.000000 |
GradientBasedCorrDefringe | 0.000000 |
GradientBasedCorrExposure2012 | -0.423783 |
GradientBasedCorrHighlights2012 | 0.055596 |
GradientBasedCorrHue | 0.000000 |
GradientBasedCorrLocalBlacks2012 | 0.000000 |
GradientBasedCorrLocalDehaze | 0.000000 |
GradientBasedCorrLocalWhites2012 | 0.000000 |
GradientBasedCorrLuminanceNoise | 0.000000 |
GradientBasedCorrMaskFullX | 0.535635 |
GradientBasedCorrMaskFullY | 0.947514 |
GradientBasedCorrMaskValue | 1.000000 |
GradientBasedCorrMaskWhat | Mask/Gradient |
GradientBasedCorrMaskZeroX | 0.532892 |
GradientBasedCorrMaskZeroY | 0.709017 |
GradientBasedCorrMoire | 0.000000 |
GradientBasedCorrSaturation | 0.000000 |
GradientBasedCorrShadows2012 | 0.000000 |
GradientBasedCorrSharpness | 0.000000 |
GradientBasedCorrTemperature | 0.000000 |
GradientBasedCorrTint | 0.000000 |
GradientBasedCorrWhat | Correction |
GrainAmount | 0 |
GrayMixerAqua | -18 |
GrayMixerBlue | +11 |
GrayMixerGreen | -27 |
GrayMixerMagenta | +4 |
GrayMixerOrange | -19 |
GrayMixerPurple | +16 |
GrayMixerRed | -10 |
GrayMixerYellow | -23 |
GreenHue | 0 |
GreenSaturation | 0 |
HasCrop | False |
HasSettings | True |
Highlights2012 | -41 |
HyperfocalDistance | 5.42 m |
ImageHeight | 3151 |
ImageSize | 4513x3151 |
ImageWidth | 4513 |
IncrementalTemperature | 0 |
IncrementalTint | 0 |
ISO | 200 |
Keywords | iceland 2016 |
LensManualDistortionAmount | 0 |
LensProfileEnable | 0 |
LensProfileSetup | LensDefaults |
LightSource | Unknown |
LightValue | 2.9 |
LuminanceNoiseReductionContrast | 0 |
LuminanceNoiseReductionDetail | 50 |
LuminanceSmoothing | 13 |
Make | FUJIFILM |
MaxApertureValue | 2.0 |
Megapixels | 14.2 |
MeteringMode | Multi-segment |
Model | X100T |
ModifyDate (1) | 2016:01:02 22:47:28Z |
ModifyDate | 2016:01:02 22:47:28 |
PaintCorrectionActive | true |
PaintCorrectionAmount | 1.000000 |
PaintCorrectionBrightness | 0.000000 |
PaintCorrectionClarity2012 (1) | 0.183049 |
PaintCorrectionClarity2012 (2) | 0.000000 |
PaintCorrectionClarity2012 | 0.193132 |
PaintCorrectionContrast2012 | 0.000000 |
PaintCorrectionDefringe | 0.000000 |
PaintCorrectionExposure2012 (1) | 0.011083 |
PaintCorrectionExposure2012 (2) | -0.118278 |
PaintCorrectionExposure2012 (3) | 0.108285 |
PaintCorrectionExposure2012 (4) | -0.132449 |
PaintCorrectionExposure2012 (5) | 0.087028 |
PaintCorrectionExposure2012 (6) | -0.084211 |
PaintCorrectionExposure2012 (7) | 0.082940 |
PaintCorrectionExposure2012 | -0.065770 |
PaintCorrectionHighlights2012 (1) | -0.441951 |
PaintCorrectionHighlights2012 | 0.055596 |
PaintCorrectionHue | 0.000000 |
PaintCorrectionLocalBlacks2012 | 0.000000 |
PaintCorrectionLocalDehaze | 0.000000 |
PaintCorrectionLocalWhites2012 | 0.000000 |
PaintCorrectionLuminanceNoise | 0.000000 |
PaintCorrectionMaskCenterWeight | 0.000000 |
PaintCorrectionMaskFlow | 1.000000 |
PaintCorrectionMaskRadius (1) | 0.176081 |
PaintCorrectionMaskRadius (10) | 0.035213 |
PaintCorrectionMaskRadius (13) | 0.063093 |
PaintCorrectionMaskRadius (14) | 0.149852 |
PaintCorrectionMaskRadius | 0.048908 |
PaintCorrectionMaskValue | 1.000000 |
PaintCorrectionMaskWhat | Mask/Paint |
PaintCorrectionMoire | 0.000000 |
PaintCorrectionSaturation | 0.000000 |
PaintCorrectionShadows2012 | 0.000000 |
PaintCorrectionSharpness | 0.000000 |
PaintCorrectionTemperature | 0.000000 |
PaintCorrectionTint | 0.000000 |
PaintCorrectionWhat | Correction |
ParametricDarks | 0 |
ParametricHighlights | 0 |
ParametricHighlightSplit | 75 |
ParametricLights | 0 |
ParametricMidtoneSplit | 50 |
ParametricShadows | 0 |
ParametricShadowSplit | 25 |
PerspectiveAspect | 0 |
PerspectiveHorizontal | 0 |
PerspectiveRotate | 0.0 |
PerspectiveScale | 100 |
PerspectiveUpright | 0 |
PerspectiveVertical | 0 |
PostCropVignetteAmount | -29 |
PostCropVignetteFeather | 79 |
PostCropVignetteHighlightContrast | 12 |
PostCropVignetteMidpoint | 58 |
PostCropVignetteRoundness | 0 |
PostCropVignetteStyle | 1 |
ProcessVersion | 6.7 |
ProfileDescription | sRGB IEC61966-2.1 |
RedHue | 0 |
RedSaturation | 0 |
ScaleFactor35efl | 1.6 |
SceneCaptureType | Standard |
SceneType | Directly photographed |
SensingMethod | One-chip color area |
SensitivityType | Standard Output Sensitivity |
Shadows2012 | +2 |
ShadowTint | 0 |
SharpenDetail | 25 |
SharpenEdgeMasking | 53 |
SharpenRadius | +1.0 |
Sharpness (1) | 71 |
Sharpness | Normal |
ShutterSpeed | 8 |
ShutterSpeedValue | 8 |
Software | Adobe Photoshop Lightroom 6.3 (Macintosh) |
SplitToningBalance | 0 |
SplitToningHighlightHue | 0 |
SplitToningHighlightSaturation | 0 |
SplitToningShadowHue | 0 |
SplitToningShadowSaturation | 0 |
Subject | iceland 2016 |
SubjectDistanceRange | Unknown |
ToneCurve | 0, 0, 255, 255 |
ToneCurveBlue | 0, 0, 255, 255 |
ToneCurveGreen | 0, 0, 255, 255 |
ToneCurveName | Linear |
ToneCurveName2012 | Linear |
ToneCurvePV2012 | 0, 0, 255, 255 |
ToneCurvePV2012Blue | 0, 0, 255, 255 |
ToneCurvePV2012Green | 0, 0, 255, 255 |
ToneCurvePV2012Red | 0, 0, 255, 255 |
ToneCurveRed | 0, 0, 255, 255 |
ToneMapStrength | 0 |
Version | 9.3 |
VignetteAmount | 0 |
WhiteBalance (1) | As Shot |
WhiteBalance | Auto |
Whites2012 | +4 |