Felt | Verdi |
AlreadyApplied | True |
Aperture | 2.0 |
ApertureValue | 2.0 |
AutoLateralCA | 0 |
AutoWhiteVersion | 134348800 |
BitsPerSample | 8 |
Blacks2012 | +26 |
BlueHue | 0 |
BlueSaturation | 0 |
BrightnessValue | 0.54 |
CameraProfile | Adobe Standard |
CircGradBasedCorrActive | true |
CircGradBasedCorrAmount | 1.000000 |
CircGradBasedCorrBrightness | 0.000000 |
CircGradBasedCorrClarity2012 (2) | 0.000000 |
CircGradBasedCorrClarity2012 | 0.686773 |
CircGradBasedCorrContrast2012 | 0.000000 |
CircGradBasedCorrDefringe | 0.000000 |
CircGradBasedCorrExposure2012 (1) | 0.184956 |
CircGradBasedCorrExposure2012 (2) | -0.172874 |
CircGradBasedCorrExposure2012 (3) | 0.357922 |
CircGradBasedCorrExposure2012 (4) | 0.253725 |
CircGradBasedCorrExposure2012 (5) | 0.214299 |
CircGradBasedCorrExposure2012 (6) | 0.167787 |
CircGradBasedCorrExposure2012 | 0.233557 |
CircGradBasedCorrHighlights2012 (1) | 0.292242 |
CircGradBasedCorrHighlights2012 | 0.000000 |
CircGradBasedCorrHue (1) | 55.519501 |
CircGradBasedCorrHue | 0.000000 |
CircGradBasedCorrLocalBlacks2012 (1) | 0.000000 |
CircGradBasedCorrLocalBlacks2012 | 0.071766 |
CircGradBasedCorrLocalDehaze | 0.000000 |
CircGradBasedCorrLocalWhites2012 | 0.000000 |
CircGradBasedCorrLuminanceNoise | 0.000000 |
CircGradBasedCorrMaskAngle | 0.000000 |
CircGradBasedCorrMaskBottom (1) | 0.999121 |
CircGradBasedCorrMaskBottom (2) | 0.996460 |
CircGradBasedCorrMaskBottom (3) | 0.734822 |
CircGradBasedCorrMaskBottom (4) | 0.499048 |
CircGradBasedCorrMaskBottom (5) | 0.519823 |
CircGradBasedCorrMaskBottom (6) | 0.942452 |
CircGradBasedCorrMaskBottom | 0.714859 |
CircGradBasedCorrMaskFeather (1) | +50 |
CircGradBasedCorrMaskFeather (2) | +65 |
CircGradBasedCorrMaskFeather | +87 |
CircGradBasedCorrMaskFlipped (2) | false |
CircGradBasedCorrMaskFlipped | true |
CircGradBasedCorrMaskLeft (1) | 0.168017 |
CircGradBasedCorrMaskLeft (2) | 0.164068 |
CircGradBasedCorrMaskLeft (3) | 0.766180 |
CircGradBasedCorrMaskLeft (4) | 0.169749 |
CircGradBasedCorrMaskLeft (5) | 0.352616 |
CircGradBasedCorrMaskLeft (6) | 0.620659 |
CircGradBasedCorrMaskLeft | 0.339287 |
CircGradBasedCorrMaskMidpoint | +50 |
CircGradBasedCorrMaskRight (1) | 0.831912 |
CircGradBasedCorrMaskRight (2) | 0.827963 |
CircGradBasedCorrMaskRight (3) | 0.896401 |
CircGradBasedCorrMaskRight (4) | 0.277352 |
CircGradBasedCorrMaskRight (5) | 0.444699 |
CircGradBasedCorrMaskRight (6) | 0.723912 |
CircGradBasedCorrMaskRight | 0.574802 |
CircGradBasedCorrMaskRoundness | 0 |
CircGradBasedCorrMaskTop (1) | 0.003689 |
CircGradBasedCorrMaskTop (2) | 0.001028 |
CircGradBasedCorrMaskTop (3) | 0.384324 |
CircGradBasedCorrMaskTop (4) | 0.308076 |
CircGradBasedCorrMaskTop (5) | 0.328851 |
CircGradBasedCorrMaskTop (6) | 0.751480 |
CircGradBasedCorrMaskTop | 0.479407 |
CircGradBasedCorrMaskValue | 1.000000 |
CircGradBasedCorrMaskVersion | +2 |
CircGradBasedCorrMaskWhat | Mask/CircularGradient |
CircGradBasedCorrMoire | 0.000000 |
CircGradBasedCorrSaturation | 0.000000 |
CircGradBasedCorrShadows2012 (1) | -0.156250 |
CircGradBasedCorrShadows2012 (3) | 0.259811 |
CircGradBasedCorrShadows2012 | 0.000000 |
CircGradBasedCorrSharpness (1) | 0.586857 |
CircGradBasedCorrSharpness (2) | -0.653033 |
CircGradBasedCorrSharpness | 0.000000 |
CircGradBasedCorrTemperature | 0.000000 |
CircGradBasedCorrTint | 0.000000 |
CircGradBasedCorrWhat | Correction |
CircleOfConfusion | 0.019 mm |
Clarity2012 | +43 |
ColorComponents | 3 |
ColorNoiseReduction | 25 |
ColorNoiseReductionDetail | 50 |
ColorNoiseReductionSmoothness | 50 |
ColorSpace | sRGB |
ColorTransform | YCbCr |
Contrast2012 | +10 |
ConvertToGrayscale | True |
CreateDate | 2015:12:29 22:52:10 |
CreatorTool | Adobe Photoshop Lightroom 6.3 (Macintosh) |
CropAngle | 0 |
CropBottom | 0.962282 |
CropConstrainToWarp | 0 |
CropLeft | 0.033249 |
CropRight | 1 |
CropTop | 0.049854 |
CustomRendered | Normal |
DateCreated (1) | 2015:12:29 |
DateCreated | 2015:12:29 22:52:10 |
DateTimeOriginal | 2015:12:29 22:52:10 |
Dehaze | 0 |
Exposure2012 | +0.25 |
ExposureCompensation | -0.33 |
ExposureMode | Auto |
ExposureProgram | Program AE |
ExposureTime | 1/40 |
Flash | Auto, Fired |
FNumber | 2.0 |
FocalLength | 19.0 mm |
FocalLength35efl | 19.0 mm (35 mm equivalent: 30.8 mm) |
Format | image/jpeg |
FOV | 60.7 deg |
GradientBasedCorrActive | true |
GradientBasedCorrAmount | 1.000000 |
GradientBasedCorrBrightness | 0.000000 |
GradientBasedCorrClarity2012 | 0.000000 |
GradientBasedCorrContrast2012 | 0.000000 |
GradientBasedCorrDefringe | 0.000000 |
GradientBasedCorrExposure2012 (1) | -0.246911 |
GradientBasedCorrExposure2012 | -0.248728 |
GradientBasedCorrHighlights2012 | 0.000000 |
GradientBasedCorrHue | 0.000000 |
GradientBasedCorrLocalBlacks2012 | 0.000000 |
GradientBasedCorrLocalDehaze | 0.000000 |
GradientBasedCorrLocalWhites2012 | 0.000000 |
GradientBasedCorrLuminanceNoise | 0.000000 |
GradientBasedCorrMaskFullX (1) | 0.459262 |
GradientBasedCorrMaskFullX | 0.077948 |
GradientBasedCorrMaskFullY (1) | 0.079563 |
GradientBasedCorrMaskFullY | 0.543140 |
GradientBasedCorrMaskValue | 1.000000 |
GradientBasedCorrMaskWhat | Mask/Gradient |
GradientBasedCorrMaskZeroX (1) | 0.460847 |
GradientBasedCorrMaskZeroX | 0.270609 |
GradientBasedCorrMaskZeroY (1) | 0.363063 |
GradientBasedCorrMaskZeroY | 0.549835 |
GradientBasedCorrMoire | 0.000000 |
GradientBasedCorrSaturation | 0.000000 |
GradientBasedCorrShadows2012 | 0.000000 |
GradientBasedCorrSharpness | 0.000000 |
GradientBasedCorrTemperature | 0.000000 |
GradientBasedCorrTint | 0.000000 |
GradientBasedCorrWhat | Correction |
GrainAmount | 0 |
GrayMixerAqua | -18 |
GrayMixerBlue | +11 |
GrayMixerGreen | -27 |
GrayMixerMagenta | +4 |
GrayMixerOrange | -19 |
GrayMixerPurple | +16 |
GrayMixerRed | -10 |
GrayMixerYellow | -23 |
GreenHue | 0 |
GreenSaturation | 0 |
HasCrop | True |
HasSettings | True |
Highlights2012 | -7 |
HyperfocalDistance | 9.72 m |
ImageHeight | 2978 |
ImageSize | 4733x2978 |
ImageWidth | 4733 |
IncrementalTemperature | 0 |
IncrementalTint | 0 |
ISO | 800 |
Keywords | iceland 2015, jul |
LensManualDistortionAmount | 0 |
LensProfileEnable | 0 |
LensProfileSetup | LensDefaults |
LightSource | Unknown |
LightValue | 4.3 |
LuminanceSmoothing | 0 |
Make | FUJIFILM |
MaxApertureValue | 2.0 |
Megapixels | 14.1 |
MeteringMode | Multi-segment |
Model | X100T |
ModifyDate (1) | 2015:12:29 23:42:04Z |
ModifyDate | 2015:12:29 23:42:04 |
PaintCorrectionActive | true |
PaintCorrectionAmount | 1.000000 |
PaintCorrectionBrightness | 0.000000 |
PaintCorrectionClarity2012 | 0.000000 |
PaintCorrectionContrast2012 | 0.000000 |
PaintCorrectionDefringe | 0.000000 |
PaintCorrectionExposure2012 (1) | 0.116279 |
PaintCorrectionExposure2012 (2) | 0.353834 |
PaintCorrectionExposure2012 (3) | -0.345839 |
PaintCorrectionExposure2012 | -0.102108 |
PaintCorrectionHighlights2012 (1) | 0.025345 |
PaintCorrectionHighlights2012 | 0.000000 |
PaintCorrectionHue | 0.000000 |
PaintCorrectionLocalBlacks2012 | 0.000000 |
PaintCorrectionLocalDehaze | 0.000000 |
PaintCorrectionLocalWhites2012 | 0.000000 |
PaintCorrectionLuminanceNoise | 0.000000 |
PaintCorrectionMaskCenterWeight | 0.000000 |
PaintCorrectionMaskFlow | 1.000000 |
PaintCorrectionMaskRadius (1) | 0.074450 |
PaintCorrectionMaskRadius (3) | 0.061427 |
PaintCorrectionMaskRadius (5) | 0.067885 |
PaintCorrectionMaskRadius (8) | 0.087899 |
PaintCorrectionMaskRadius | 0.055076 |
PaintCorrectionMaskValue | 1.000000 |
PaintCorrectionMaskWhat | Mask/Paint |
PaintCorrectionMoire | 0.000000 |
PaintCorrectionSaturation | 0.000000 |
PaintCorrectionShadows2012 (1) | -0.000999 |
PaintCorrectionShadows2012 | 0.000000 |
PaintCorrectionSharpness | 0.000000 |
PaintCorrectionTemperature | 0.000000 |
PaintCorrectionTint | 0.000000 |
PaintCorrectionWhat | Correction |
ParametricDarks | 0 |
ParametricHighlights | 0 |
ParametricHighlightSplit | 75 |
ParametricLights | 0 |
ParametricMidtoneSplit | 50 |
ParametricShadows | 0 |
ParametricShadowSplit | 25 |
PerspectiveAspect | 0 |
PerspectiveHorizontal | 0 |
PerspectiveRotate | 0.0 |
PerspectiveScale | 100 |
PerspectiveUpright | 0 |
PerspectiveVertical | 0 |
PostCropVignetteAmount | -9 |
PostCropVignetteFeather | 50 |
PostCropVignetteHighlightContrast | 0 |
PostCropVignetteMidpoint | 50 |
PostCropVignetteRoundness | 0 |
PostCropVignetteStyle | 1 |
ProcessVersion | 6.7 |
ProfileDescription | sRGB IEC61966-2.1 |
RedHue | 0 |
RedSaturation | 0 |
ScaleFactor35efl | 1.6 |
SceneCaptureType | Standard |
SceneType | Directly photographed |
SensingMethod | One-chip color area |
SensitivityType | Standard Output Sensitivity |
Shadows2012 | 0 |
ShadowTint | 0 |
SharpenDetail | 25 |
SharpenEdgeMasking | 0 |
SharpenRadius | +1.0 |
Sharpness (1) | 25 |
Sharpness | Normal |
ShutterSpeed | 1/40 |
ShutterSpeedValue | 1/40 |
Software | Adobe Photoshop Lightroom 6.3 (Macintosh) |
SplitToningBalance | 0 |
SplitToningHighlightHue | 0 |
SplitToningHighlightSaturation | 0 |
SplitToningShadowHue | 0 |
SplitToningShadowSaturation | 0 |
Subject | iceland 2015, jul |
SubjectDistanceRange | Unknown |
ToneCurve | 0, 0, 255, 255 |
ToneCurveBlue | 0, 0, 255, 255 |
ToneCurveGreen | 0, 0, 255, 255 |
ToneCurveName | Linear |
ToneCurveName2012 | Linear |
ToneCurvePV2012 | 0, 0, 255, 255 |
ToneCurvePV2012Blue | 0, 0, 255, 255 |
ToneCurvePV2012Green | 0, 0, 255, 255 |
ToneCurvePV2012Red | 0, 0, 255, 255 |
ToneCurveRed | 0, 0, 255, 255 |
ToneMapStrength | 0 |
Version | 9.3 |
VignetteAmount | 0 |
WhiteBalance (1) | As Shot |
WhiteBalance | Auto |
Whites2012 | +13 |