Felt | Verdi |
AlreadyApplied | True |
Aperture | 5.6 |
ApertureValue | 5.6 |
ApproximateFocusDistance | 8 |
Artist | KRISTIN_JONA_GUDJONSDOTTIR |
AutoLateralCA | 1 |
AutoWhiteVersion | 134348800 |
BitsPerSample | 8 |
Blacks2012 | +8 |
BlueHue | 0 |
BlueSaturation | 0 |
By-line | KRISTIN_JONA_GUDJONSDOTTIR |
CameraProfile | Adobe Standard |
CFAPattern | [Blue,Green][Green,Red] |
CircleOfConfusion | 0.020 mm |
Clarity2012 | +26 |
ColorComponents | 3 |
ColorNoiseReduction | 0 |
ColorTemperature | 6000 |
ColorTransform | YCbCr |
Contrast | High |
Contrast2012 | +23 |
ConvertToGrayscale | False |
Copyright | Mirra Photography |
CopyrightFlag | True |
CopyrightNotice | Mirra Photography |
CreateDate | 2015:04:16 07:03:46 |
Creator | KRISTIN_JONA_GUDJONSDOTTIR |
CreatorTool | Adobe Photoshop Lightroom 5.7 (Macintosh) |
CropAngle | 0.698437 |
CropBottom | 1 |
CropConstrainToWarp | 0 |
CropLeft | 0.013001 |
CropRight | 0.986999 |
CropTop | 0 |
CustomRendered | Normal |
DateCreated (1) | 2015:04:16 |
DateCreated | 2015:04:16 07:03:46 |
DateTimeOriginal | 2015:04:16 07:03:46 |
DefringeGreenAmount | 0 |
DefringeGreenHueHi | 60 |
DefringeGreenHueLo | 40 |
DefringePurpleAmount | 0 |
DefringePurpleHueHi | 70 |
DefringePurpleHueLo | 30 |
DOF | inf (2.13 m - inf) |
Exposure2012 | +0.79 |
ExposureCompensation | 0 |
ExposureMode | Auto |
ExposureProgram | Aperture-priority AE |
ExposureTime | 1/60 |
Flash | Off, Did not fire |
FNumber | 5.6 |
FocalLength | 18.0 mm |
FocalLength35efl | 18.0 mm (35 mm equivalent: 27.0 mm) |
FocalLengthIn35mmFormat | 27 mm |
Format | image/jpeg |
FOV | 67.4 deg |
GradientBasedCorrActive | true |
GradientBasedCorrAmount | 1.000000 |
GradientBasedCorrBrightness | 0.000000 |
GradientBasedCorrClarity2012 | 0.000000 |
GradientBasedCorrContrast2012 | 0.000000 |
GradientBasedCorrExposure2012 | -0.127000 |
GradientBasedCorrHighlights2012 | 0.000000 |
GradientBasedCorrHue | 0.000000 |
GradientBasedCorrLuminanceNoise | 0.000000 |
GradientBasedCorrMaskFullX | 0.690430 |
GradientBasedCorrMaskFullY | 0.039304 |
GradientBasedCorrMaskValue | 1.000000 |
GradientBasedCorrMaskWhat | Mask/Gradient |
GradientBasedCorrMaskZeroX | 0.685534 |
GradientBasedCorrMaskZeroY | 0.454990 |
GradientBasedCorrMoire | 0.000000 |
GradientBasedCorrSaturation | 0.000000 |
GradientBasedCorrShadows2012 | 0.000000 |
GradientBasedCorrSharpness | 0.000000 |
GradientBasedCorrTemperature | 0.000000 |
GradientBasedCorrTint | 0.000000 |
GradientBasedCorrWhat | Correction |
GrainAmount | 0 |
GreenHue | 0 |
GreenSaturation | 0 |
HasCrop | True |
HasSettings | True |
Highlights2012 | -56 |
HueAdjustmentAqua | -15 |
HueAdjustmentBlue | -17 |
HueAdjustmentGreen | +15 |
HueAdjustmentMagenta | -5 |
HueAdjustmentOrange | -11 |
HueAdjustmentPurple | +3 |
HueAdjustmentRed | -15 |
HueAdjustmentYellow | -8 |
HyperfocalDistance | 2.89 m |
ImageHeight | 850 |
ImageSize | 1283x850 |
ImageWidth | 1283 |
ISO | 400 |
Keywords | #MirraPhotography, Mirra, Mirra Photography, MirraPhotograpy, kjg, kjona, kristin jona, kristjona |
Lens | smc PENTAX-DA 18-55mm F3.5-5.6 AL WR |
LensID (1) | 7 218 |
LensID | smc PENTAX-DA 18-55mm F3.5-5.6 AL WR |
LensInfo | 18-55mm f/3.5-5.6 |
LensManualDistortionAmount | 0 |
LensModel | smc PENTAX-DA 18-55mm F3.5-5.6 AL WR |
LensProfileEnable | 0 |
LensProfileSetup | LensDefaults |
LightValue | 8.9 |
LuminanceAdjustmentAqua | -15 |
LuminanceAdjustmentBlue | +8 |
LuminanceAdjustmentGreen | +14 |
LuminanceAdjustmentMagenta | +9 |
LuminanceAdjustmentOrange | +11 |
LuminanceAdjustmentPurple | +5 |
LuminanceAdjustmentRed | +8 |
LuminanceAdjustmentYellow | +21 |
LuminanceNoiseReductionContrast | 0 |
LuminanceNoiseReductionDetail | 50 |
LuminanceSmoothing | 35 |
Make | PENTAX |
Marked | True |
Megapixels | 1.1 |
MeteringMode | Multi-segment |
Model | PENTAX K-5 II |
ModifyDate (1) | 2015:04:16 09:28:31+02:00 |
ModifyDate | 2015:04:16 09:28:31 |
ParametricDarks | 0 |
ParametricHighlights | 0 |
ParametricHighlightSplit | 75 |
ParametricLights | 0 |
ParametricMidtoneSplit | 50 |
ParametricShadows | 0 |
ParametricShadowSplit | 25 |
PerspectiveAspect | 0 |
PerspectiveHorizontal | 0 |
PerspectiveRotate | 0.0 |
PerspectiveScale | 100 |
PerspectiveUpright | 0 |
PerspectiveVertical | 0 |
PostCropVignetteAmount | -5 |
PostCropVignetteFeather | 61 |
PostCropVignetteHighlightContrast | 0 |
PostCropVignetteMidpoint | 47 |
PostCropVignetteRoundness | 0 |
PostCropVignetteStyle | 1 |
ProcessVersion | 6.7 |
ProfileDescription | sRGB IEC61966-2.1 |
Rating | 2 |
RedHue | 0 |
RedSaturation | 0 |
Rights | Mirra Photography |
Saturation (1) | +13 |
Saturation | Normal |
SaturationAdjustmentAqua | -15 |
SaturationAdjustmentBlue | +5 |
SaturationAdjustmentGreen | +14 |
SaturationAdjustmentMagenta | 0 |
SaturationAdjustmentOrange | +6 |
SaturationAdjustmentPurple | 0 |
SaturationAdjustmentRed | +11 |
SaturationAdjustmentYellow | +5 |
ScaleFactor35efl | 1.5 |
SceneCaptureType | Standard |
SensingMethod | One-chip color area |
Shadows2012 | -16 |
ShadowTint | 0 |
SharpenDetail | 25 |
SharpenEdgeMasking | 0 |
SharpenRadius | +1.0 |
Sharpness (1) | 50 |
Sharpness | Hard |
ShutterSpeed | 1/60 |
ShutterSpeedValue | 1/60 |
Software | Adobe Photoshop Lightroom 5.7 (Macintosh) |
SplitToningBalance | 0 |
SplitToningHighlightHue | 0 |
SplitToningHighlightSaturation | 0 |
SplitToningShadowHue | 0 |
SplitToningShadowSaturation | 0 |
Subject | #MirraPhotography, Mirra, Mirra Photography, MirraPhotograpy, kjg, kjona, kristin jona, kristjona |
SubjectDistanceRange | Distant |
Tint | 0 |
ToneCurve | 0, 0, 255, 255 |
ToneCurveBlue | 0, 0, 255, 255 |
ToneCurveGreen | 0, 0, 255, 255 |
ToneCurveName | Linear |
ToneCurveName2012 | Linear |
ToneCurvePV2012 | 0, 0, 255, 255 |
ToneCurvePV2012Blue | 0, 0, 255, 255 |
ToneCurvePV2012Green | 0, 0, 255, 255 |
ToneCurvePV2012Red | 0, 0, 255, 255 |
ToneCurveRed | 0, 0, 255, 255 |
Version | 8.7 |
Vibrance | +8 |
VignetteAmount | -17 |
VignetteMidpoint | 41 |
WhiteBalance (1) | Custom |
WhiteBalance | Auto |
Whites2012 | +6 |